BEGIN:VCALENDAR
VERSION:2.0
PRODID:-//wp-events-plugin.com//7.2.3.1//EN
TZID:Europe/Paris
X-WR-TIMEZONE:Europe/Paris
BEGIN:VEVENT
UID:776@psycho-bio-acupressure.com
DTSTART;TZID=Europe/Paris:20251211T193000
DTEND;TZID=Europe/Paris:20251211T203000
DTSTAMP:20251127T141148Z
URL:https://www.psycho-bio-acupressure.com/Formations/coeur-on-a-virus-n30
 -en-visioconference-19h30-paris-time/
SUMMARY:Coeur On a Virus n°30 - en visioconférence ( 19h30 Paris time)
DESCRIPTION:Ce cours est ouvert aux praticiens et stagiaires\, mais aussi 
 à toute personne en dehors ! Parlez-en à vos consultants \;)\n\nPour les
  cours Coeur On a Virus\, vous allez recevoir un mail avec le lien quelque
 s heures avant la formation.\n\nLe cours a lieu en visioconférence\, à 1
 9h30 (Paris Time)\n\nPour toute question\, vous pouvez contacter Delphine 
 : delphine@institut-delatte.org\n\n&nbsp\;\n\nDate limite d'inscription : 
 mardi 9 décembre à 15h (Paris time)
ATTACH;FMTTYPE=image/jpeg:https://www.psycho-bio-acupressure.com/wp-conten
 t/uploads/2025/10/coeur-mains.png
CATEGORIES:Visioconférence
LOCATION:En visioconférence\, En visioconférence\,  \, France
GEO:46.227638;2.213749
X-APPLE-STRUCTURED-LOCATION;VALUE=URI;X-ADDRESS=En visioconférence\,  \, F
 rance;X-APPLE-RADIUS=100;X-TITLE=En visioconférence:geo:46.227638,2.21374
 9
END:VEVENT
BEGIN:VTIMEZONE
TZID:Europe/Paris
X-LIC-LOCATION:Europe/Paris
BEGIN:STANDARD
DTSTART:20251026T020000
TZOFFSETFROM:+0200
TZOFFSETTO:+0100
TZNAME:CET
END:STANDARD
END:VTIMEZONE
END:VCALENDAR