BEGIN:VCALENDAR
VERSION:2.0
PRODID:-//wp-events-plugin.com//7.2.3.1//EN
TZID:Europe/Paris
X-WR-TIMEZONE:Europe/Paris
BEGIN:VEVENT
UID:762@psycho-bio-acupressure.com
DTSTART;TZID=Europe/Paris:20251015T120000
DTEND;TZID=Europe/Paris:20251015T130000
DTSTAMP:20251015T053238Z
URL:https://www.psycho-bio-acupressure.com/Formations/coeur-on-a-virus/
SUMMARY:Coeur On a Virus n°27 - en visioconférence ( 12 à 13h Paris time
 )
DESCRIPTION:Pour les cours Coeur On a Virus\, vous allez recevoir un mail a
 vec le lien quelques heures avant la formation.\n\nLe cours a lieu en visi
 oconférence\, de midi à 13h (Paris time)\n\nPour toute question\, vous p
 ouvez contacter Delphine : delphine@institut-delatte.org
ATTACH;FMTTYPE=image/jpeg:https://www.psycho-bio-acupressure.com/wp-conten
 t/uploads/2025/10/coeur-mains.png
CATEGORIES:Visioconférence
LOCATION:En visioconférence\, En visioconférence\,  \, France
GEO:46.227638;2.213749
X-APPLE-STRUCTURED-LOCATION;VALUE=URI;X-ADDRESS=En visioconférence\,  \, F
 rance;X-APPLE-RADIUS=100;X-TITLE=En visioconférence:geo:46.227638,2.21374
 9
END:VEVENT
BEGIN:VTIMEZONE
TZID:Europe/Paris
X-LIC-LOCATION:Europe/Paris
BEGIN:DAYLIGHT
DTSTART:20250330T030000
TZOFFSETFROM:+0100
TZOFFSETTO:+0200
TZNAME:CEST
END:DAYLIGHT
END:VTIMEZONE
END:VCALENDAR