BEGIN:VCALENDAR
VERSION:2.0
PRODID:-//wp-events-plugin.com//7.2.3.1//EN
TZID:Europe/Paris
X-WR-TIMEZONE:Europe/Paris
BEGIN:VEVENT
UID:771@psycho-bio-acupressure.com
DTSTART;TZID=Europe/Paris;VALUE=DATE:20251227
DTEND;TZID=Europe/Paris;VALUE=DATE:20251229
DTSTAMP:20260410T085146Z
URL:https://www.psycho-bio-acupressure.com/Formations/cours-evp-en-visioco
 nference-6/
SUMMARY:Cours EVP en visioconférence courage
DESCRIPTION:Formatrice : Mme Faïrouz ROUZAUD\n\nPour toute question\, vou
 s pouvez contacter la formatrice : direction@institut-delatte.org\n\nEVP e
 n visioconférence\, première partie : samedi 27 et dimanche 28 décembre
  2025 de 14h30 à 18h (Paris Time)\n\nThème : le non amour de soi\, le co
 urage d’être soi-même\, les sentiments de honte et culpabilité\, la v
 ictimite\n\nPraticiens PBA\, osez la transformation ! Ce parcours est votr
 e guide pour libérer vos clients des entraves émotionnelles\, révéler 
 leur authenticité lumineuse et les accompagner avec puissance au-delà de
  leurs peurs les plus profondes.\n\nOUVERT À TOUS !\n\n&nbsp\;\n\nDate li
 mite d'inscription : 13 décembre 2025 
ATTACH;FMTTYPE=image/jpeg:https://www.psycho-bio-acupressure.com/wp-conten
 t/uploads/2020/10/conf.jpg
CATEGORIES:Visioconférence
LOCATION:En visioconférence\, En visioconférence\,  \, France
GEO:46.227638;2.213749
X-APPLE-STRUCTURED-LOCATION;VALUE=URI;X-ADDRESS=En visioconférence\,  \, F
 rance;X-APPLE-RADIUS=100;X-TITLE=En visioconférence:geo:46.227638,2.21374
 9
END:VEVENT
BEGIN:VTIMEZONE
TZID:Europe/Paris
X-LIC-LOCATION:Europe/Paris
BEGIN:STANDARD
DTSTART:20251026T020000
TZOFFSETFROM:+0200
TZOFFSETTO:+0100
TZNAME:CET
END:STANDARD
END:VTIMEZONE
END:VCALENDAR