BEGIN:VCALENDAR
VERSION:2.0
PRODID:-//wp-events-plugin.com//7.2.3.1//EN
TZID:Europe/Paris
X-WR-TIMEZONE:Europe/Paris
BEGIN:VEVENT
UID:797@psycho-bio-acupressure.com
DTSTART;TZID=Australia/Brisbane;VALUE=DATE:20260207
DTEND;TZID=Australia/Brisbane;VALUE=DATE:20260209
DTSTAMP:20260114T175507Z
URL:https://www.psycho-bio-acupressure.com/Formations/cours-evp-les-enfant
 s-du-divorce-en-visioconference-2/
SUMMARY:Cours EVP "Les enfants du divorce" en visioconférence (depuis Bris
 bane\, Australie)
DESCRIPTION:Formatrice : Mme Faïrouz ROUZAUD\n\nPour toute question\, vou
 s pouvez contacter la formatrice : direction@institut-delatte.org\n\nEVP e
 n visioconférence : samedi 7 et dimanche 8 février 2026 de 17h-20h (hora
 ires de Brisbane\, Australie)\n\nThème : Les enfants du divorce\n\nOuver
 t à tous les praticiens et stagiaires du pré-requis au niveau 5 :-)\n\n&
 nbsp\;
ATTACH;FMTTYPE=image/jpeg:https://www.psycho-bio-acupressure.com/wp-conten
 t/uploads/2020/10/conf.jpg
CATEGORIES:Visioconférence
LOCATION:En visioconférence\, En visioconférence\,  \, France
GEO:46.227638;2.213749
X-APPLE-STRUCTURED-LOCATION;VALUE=URI;X-ADDRESS=En visioconférence\,  \, F
 rance;X-APPLE-RADIUS=100;X-TITLE=En visioconférence:geo:46.227638,2.21374
 9
END:VEVENT
BEGIN:VTIMEZONE
TZID:Australia/Brisbane
X-LIC-LOCATION:Australia/Brisbane
BEGIN:STANDARD
DTSTART:20250207T000000
TZOFFSETFROM:+1000
TZOFFSETTO:+1000
TZNAME:AEST
END:STANDARD
END:VTIMEZONE
END:VCALENDAR