BEGIN:VCALENDAR
VERSION:2.0
PRODID:-//wp-events-plugin.com//7.2.3.1//EN
TZID:Europe/Paris
X-WR-TIMEZONE:Europe/Paris
BEGIN:VEVENT
UID:751@psycho-bio-acupressure.com
DTSTART;TZID=Europe/Paris:20251017T120000
DTEND;TZID=Europe/Paris:20251018T150000
DTSTAMP:20250911T095450Z
URL:https://www.psycho-bio-acupressure.com/Formations/cours-inedit-en-visi
 oconference-les-schemes-caches/
SUMMARY:Cours inédit en visioconférence « Les schèmes cachés »
DESCRIPTION:Formatrice : Mme Faïrouz ROUZAUD\n\nPour toute question\, veu
 illez contacter la formatrice : direction@institut-delatte.org\n\n17 et 18
  octobre 2025\, 12h — 15h (horaires de Paris)\n\nCOURS SCHÈMES INÉDIT 
 JAMAIS VU EN COURS\n\nFaïrouz vous propose un atelier exceptionnel autour
  des schèmes :\nun rendez-vous unique pour explorer des blocages encore j
 amais abordés en cours.\nCes schèmes inédits ouvrent une nouvelle compr
 éhension des mécanismes émotionnels profonds et de leurs impacts dans n
 os vies.\n\nAu programme :\n\n 	Découverte de nouvelles grilles de lectur
 e pour mieux comprendre les blocages inconscients.\n 	Mise en lumière de 
 schèmes rarement identifiés\, mais pourtant puissants.\n 	Applications p
 ratiques pour enrichir vos séances et vos accompagnements.\n\nC’est une
  occasion rare d’élargir vos outils et votre regard\, tout en continuan
 t à avancer dans votre pratique.\n\nEn visioconférence\, de chez vous\, 
 un accès simple et interactif.\n\nUn cours inédit\, une exploration pré
 cieuse\, un pas de plus vers la profondeur pour soi et vos consultants !\n
 \nCarole vous invite à lui partager vos suggestions de blocages que vous 
 aimeriez voir en profondeur avec Faïrouz. Elle en fera un tableau qu’el
 le lui transférera …\nSecretariat-direction@institut-delatte.org
ATTACH;FMTTYPE=image/jpeg:https://www.psycho-bio-acupressure.com/wp-conten
 t/uploads/2020/10/conf.jpg
CATEGORIES:Visioconférence
LOCATION:En visioconférence\, En visioconférence\,  \, France
GEO:46.227638;2.213749
X-APPLE-STRUCTURED-LOCATION;VALUE=URI;X-ADDRESS=En visioconférence\,  \, F
 rance;X-APPLE-RADIUS=100;X-TITLE=En visioconférence:geo:46.227638,2.21374
 9
END:VEVENT
BEGIN:VTIMEZONE
TZID:Europe/Paris
X-LIC-LOCATION:Europe/Paris
BEGIN:DAYLIGHT
DTSTART:20250330T030000
TZOFFSETFROM:+0100
TZOFFSETTO:+0200
TZNAME:CEST
END:DAYLIGHT
END:VTIMEZONE
END:VCALENDAR