BEGIN:VCALENDAR
VERSION:2.0
PRODID:-//wp-events-plugin.com//7.2.3.1//EN
TZID:Europe/Paris
X-WR-TIMEZONE:Europe/Paris
BEGIN:VEVENT
UID:799@psycho-bio-acupressure.com
DTSTART;TZID=Asia/Dubai:20260214T160000
DTEND;TZID=Asia/Dubai:20260215T190000
DTSTAMP:20260113T164859Z
URL:https://www.psycho-bio-acupressure.com/Formations/cours-schemes-les-en
 fants-du-divorce-en-visioconference-depuis-brisbane-australie/
SUMMARY:Cours Schèmes "Les enfants du divorce" en visioconférence (depuis
  Brisbane\, Australie)
DESCRIPTION:Formatrice : Mme Faïrouz ROUZAUD\n\nSi vous avez des question
 s\, merci de les adresser à la formatrice : direction@institut-delatte.o
 rg.\n\nCours ouvert aux personnes qui sont suivi le cours EVP "les enfants
  du divorce"\n\nCours Schèmes spécial "Les enfants du divorce": samedi 1
 4 et dimanche 15 février 2026\, 16h-19h (horaires de Brisbane\, Australie
 )\n\n&nbsp\;
ATTACH;FMTTYPE=image/jpeg:https://www.psycho-bio-acupressure.com/wp-conten
 t/uploads/2020/10/conf.jpg
CATEGORIES:Visioconférence
LOCATION:En visioconférence\, En visioconférence\,  \, France
GEO:46.227638;2.213749
X-APPLE-STRUCTURED-LOCATION;VALUE=URI;X-ADDRESS=En visioconférence\,  \, F
 rance;X-APPLE-RADIUS=100;X-TITLE=En visioconférence:geo:46.227638,2.21374
 9
END:VEVENT
BEGIN:VTIMEZONE
TZID:Asia/Dubai
X-LIC-LOCATION:Asia/Dubai
BEGIN:STANDARD
DTSTART:20250214T160000
TZOFFSETFROM:+0400
TZOFFSETTO:+0400
TZNAME:+04
END:STANDARD
END:VTIMEZONE
END:VCALENDAR