BEGIN:VCALENDAR
VERSION:2.0
PRODID:-//wp-events-plugin.com//7.2.3.1//EN
TZID:Europe/Paris
X-WR-TIMEZONE:Europe/Paris
BEGIN:VEVENT
UID:769@psycho-bio-acupressure.com
DTSTART;TZID=Europe/Paris:20251220T090000
DTEND;TZID=Europe/Paris:20251221T120000
DTSTAMP:20251109T165058Z
URL:https://www.psycho-bio-acupressure.com/Formations/cours-sur-les-scheme
 s-en-visioconference-7/
SUMMARY:Cours sur les schèmes en visioconférence
DESCRIPTION:Formatrice : Mme Faïrouz ROUZAUD\n\nPour toute question\, veu
 illez contacter la formatrice : direction@institut-delatte.org\n\n20 et 21
  décembre 2025\, 9h — 12h (horaires de Paris)\n\n&nbsp\;\n\nOUVERT À T
 OUS LES PRATICIENS ET STAGIAIRES\n\n&nbsp\;\n\nDate limite d'inscription :
  6 décembre 2025 à 17h
ATTACH;FMTTYPE=image/jpeg:https://www.psycho-bio-acupressure.com/wp-conten
 t/uploads/2020/10/conf.jpg
CATEGORIES:Visioconférence
LOCATION:En visioconférence\, En visioconférence\,  \, France
GEO:46.227638;2.213749
X-APPLE-STRUCTURED-LOCATION;VALUE=URI;X-ADDRESS=En visioconférence\,  \, F
 rance;X-APPLE-RADIUS=100;X-TITLE=En visioconférence:geo:46.227638,2.21374
 9
END:VEVENT
BEGIN:VTIMEZONE
TZID:Europe/Paris
X-LIC-LOCATION:Europe/Paris
BEGIN:STANDARD
DTSTART:20251026T020000
TZOFFSETFROM:+0200
TZOFFSETTO:+0100
TZNAME:CET
END:STANDARD
END:VTIMEZONE
END:VCALENDAR