BEGIN:VCALENDAR
VERSION:2.0
PRODID:-//wp-events-plugin.com//7.2.3.1//EN
TZID:Europe/Paris
X-WR-TIMEZONE:Europe/Paris
BEGIN:VEVENT
UID:844@psycho-bio-acupressure.com
DTSTART;TZID=Europe/Paris;VALUE=DATE:20260608
DTEND;TZID=Europe/Paris;VALUE=DATE:20260611
DTSTAMP:20260418T133043Z
URL:https://www.psycho-bio-acupressure.com/Formations/cours-verbalisation-
 enfant-en-visioconference-paris-time/
SUMMARY:Cours Verbalisation "enfant" en visioconférence (Paris time)
DESCRIPTION:Formatrice : Mme Faïrouz ROUZAUD\n\nSi vous avez des question
 s\, merci de les adresser à la formatrice : direction@institut-delatte.o
 rg.\n\nCours verbalisation spéciale liste enfant  "blocages émotionnels
  inédits"\n\nCours Schèmes spécial "enfants": Lundi 8\, mardi 9 et merc
 redi 10 juin 2026\, 18h30-20h30 (Paris time)\n\n&nbsp\;
ATTACH;FMTTYPE=image/jpeg:https://www.psycho-bio-acupressure.com/wp-conten
 t/uploads/2020/10/conf.jpg
CATEGORIES:Visioconférence
LOCATION:En visioconférence\, En visioconférence\,  \, France
GEO:46.227638;2.213749
X-APPLE-STRUCTURED-LOCATION;VALUE=URI;X-ADDRESS=En visioconférence\,  \, F
 rance;X-APPLE-RADIUS=100;X-TITLE=En visioconférence:geo:46.227638,2.21374
 9
END:VEVENT
BEGIN:VTIMEZONE
TZID:Europe/Paris
X-LIC-LOCATION:Europe/Paris
BEGIN:DAYLIGHT
DTSTART:20260329T030000
TZOFFSETFROM:+0100
TZOFFSETTO:+0200
TZNAME:CEST
END:DAYLIGHT
END:VTIMEZONE
END:VCALENDAR