BEGIN:VCALENDAR
VERSION:2.0
PRODID:-//wp-events-plugin.com//7.2.3.1//EN
TZID:Europe/Paris
X-WR-TIMEZONE:Europe/Paris
BEGIN:VEVENT
UID:767@psycho-bio-acupressure.com
DTSTART;TZID=Europe/Paris:20251204T190000
DTEND;TZID=Europe/Paris:20251206T220000
DTSTAMP:20251118T164732Z
URL:https://www.psycho-bio-acupressure.com/Formations/cours-verbalisation-
 speciale-liste-enfants-chap-8-en-visioconference/
SUMMARY:Cours Verbalisation spéciale liste enfants (chap 8) en visioconfé
 rence
DESCRIPTION:Formatrice : Mme Faïrouz ROUZAUD\n\nSi vous avez des question
 s\, merci de les adresser à la formatrice : direction@institut-delatte.o
 rg.\n\nCours ouvert aux personnes qui sont inscrites et ont payé la super
 vision 2\, partie théorique\n\nCours Verbalisation spéciale liste enfant
 s : 4 et 6 décembre 2025\, 19h-22h (horaires France)\n\nCOURS SPECIAL CHA
 PITRE 8 LISTE ENFANT\n\n&nbsp\;\n\nDate limite d'inscription : 20/11/2025 
 à 17h30
ATTACH;FMTTYPE=image/jpeg:https://www.psycho-bio-acupressure.com/wp-conten
 t/uploads/2020/10/conf.jpg
CATEGORIES:Visioconférence
LOCATION:En visioconférence\, En visioconférence\,  \, France
GEO:46.227638;2.213749
X-APPLE-STRUCTURED-LOCATION;VALUE=URI;X-ADDRESS=En visioconférence\,  \, F
 rance;X-APPLE-RADIUS=100;X-TITLE=En visioconférence:geo:46.227638,2.21374
 9
END:VEVENT
BEGIN:VTIMEZONE
TZID:Europe/Paris
X-LIC-LOCATION:Europe/Paris
BEGIN:STANDARD
DTSTART:20251026T020000
TZOFFSETFROM:+0200
TZOFFSETTO:+0100
TZNAME:CET
END:STANDARD
END:VTIMEZONE
END:VCALENDAR