BEGIN:VCALENDAR
VERSION:2.0
PRODID:-//wp-events-plugin.com//7.2.3.1//EN
TZID:Europe/Paris
X-WR-TIMEZONE:Europe/Paris
BEGIN:VEVENT
UID:798@psycho-bio-acupressure.com
DTSTART;TZID=Australia/Brisbane;VALUE=DATE:20260209
DTEND;TZID=Australia/Brisbane;VALUE=DATE:20260212
DTSTAMP:20260207T203632Z
URL:https://www.psycho-bio-acupressure.com/Formations/cours-verbalisation-
 speciale-liste-enfants-en-visioconference-depuis-brisbane-australie/
SUMMARY:Cours Verbalisation spéciale liste enfants en visioconférence (de
 puis Brisbane\, Australie)
DESCRIPTION:Formatrice : Mme Faïrouz ROUZAUD\n\nSi vous avez des question
 s\, merci de les adresser à la formatrice : direction@institut-delatte.o
 rg.\n\nCours ouvert aux personnes qui sont inscrites et ont payé la super
 vision 2\, partie théorique\n\nCours Verbalisation spéciale liste enfant
 s : lundi 9\, mardi 10\, mercredi 11 février 2026\, 6h — 8h (horaires d
 e Brisbane\, Australie)\n\n&nbsp\;
ATTACH;FMTTYPE=image/jpeg:https://www.psycho-bio-acupressure.com/wp-conten
 t/uploads/2020/10/conf.jpg
CATEGORIES:Visioconférence
LOCATION:En visioconférence\, En visioconférence\,  \, France
GEO:46.227638;2.213749
X-APPLE-STRUCTURED-LOCATION;VALUE=URI;X-ADDRESS=En visioconférence\,  \, F
 rance;X-APPLE-RADIUS=100;X-TITLE=En visioconférence:geo:46.227638,2.21374
 9
END:VEVENT
BEGIN:VTIMEZONE
TZID:Australia/Brisbane
X-LIC-LOCATION:Australia/Brisbane
BEGIN:STANDARD
DTSTART:20250209T000000
TZOFFSETFROM:+1000
TZOFFSETTO:+1000
TZNAME:AEST
END:STANDARD
END:VTIMEZONE
END:VCALENDAR