BEGIN:VCALENDAR
VERSION:2.0
PRODID:-//wp-events-plugin.com//7.2.3.1//EN
TZID:Europe/Paris
X-WR-TIMEZONE:Europe/Paris
BEGIN:VEVENT
UID:846@psycho-bio-acupressure.com
DTSTART;TZID=Pacific/Noumea;VALUE=DATE:20260529
DTEND;TZID=Pacific/Noumea;VALUE=DATE:20260531
DTSTAMP:20260420T154314Z
URL:https://www.psycho-bio-acupressure.com/Formations/evp-sur-la-symboliqu
 e-des-points-en-pba-en-visioconference-2e-partie/
SUMMARY:EVP sur la symbolique des points en PBA en visioconférence (2e par
 tie)
DESCRIPTION:Formatrice : Mme Faïrouz ROUZAUD\n\nPour toute question\, mer
 ci de contacter la formatrice : direction@institut-delatte.org\n\nIl s'agi
 t d'un cours d'initiation à la chakra pressure émotionnelle qui permet d
 e parfaire votre travail en PBA.\n\nCours ouvert à toutes les personnes a
 yant fait le cours sur la symbolique des points 1ere partie.\n\nCours sur 
 la symbolique des points en PBA (2e partie) :\n\n 	29 et 30 mai 6h-9h (Nou
 mea time)\n
ATTACH;FMTTYPE=image/jpeg:https://www.psycho-bio-acupressure.com/wp-conten
 t/uploads/2020/10/conf.jpg
CATEGORIES:Visioconférence
LOCATION:En visioconférence\, En visioconférence\,  \, France
GEO:46.227638;2.213749
X-APPLE-STRUCTURED-LOCATION;VALUE=URI;X-ADDRESS=En visioconférence\,  \, F
 rance;X-APPLE-RADIUS=100;X-TITLE=En visioconférence:geo:46.227638,2.21374
 9
END:VEVENT
BEGIN:VTIMEZONE
TZID:Pacific/Noumea
X-LIC-LOCATION:Pacific/Noumea
BEGIN:STANDARD
DTSTART:20250529T000000
TZOFFSETFROM:+1100
TZOFFSETTO:+1100
TZNAME:+11
END:STANDARD
END:VTIMEZONE
END:VCALENDAR