BEGIN:VCALENDAR
VERSION:2.0
PRODID:-//wp-events-plugin.com//7.2.3.1//EN
TZID:Europe/Paris
X-WR-TIMEZONE:Europe/Paris
BEGIN:VEVENT
UID:841@psycho-bio-acupressure.com
DTSTART;TZID=Europe/Paris;VALUE=DATE:20261120
DTEND;TZID=Europe/Paris;VALUE=DATE:20261128
DTSTAMP:20260414T084115Z
URL:https://www.psycho-bio-acupressure.com/Formations/formation-decouverte
 -et-prerequis-niveau-1-5-recyclage-niveau-5-auditeur-libre-verbalisation-a
 pprofondie-et-supervisions-a-paris-3/
SUMMARY:Formation Découverte et Prérequis\, Niveau 1 - 5\, Auditeur libre
 \, Verbalisation approfondie et Supervisions pratiques 1\, 2 et 2+ à Pari
 s
DESCRIPTION:Formatrice : Mme Faïrouz ROUZAUD\n\nPour les questions merci 
 de contacter la formatrice : direction@institut-delatte.org\n\n 	Pré-req
 uis en visioconférence : Vendredi 20 novembre 2026 de 9h30-12h / 14h-16h3
 0\nUniquement pour les stagiaires inscrits au Niveau 1 le lendemain\n 	Niv
 eau 1 : samedi 21 novembre 2026\, 9h-12h / 14h-17h\, et dimanche 22 novemb
 re\, 9h-12h\nÉgalement accessible en visioconférence pour les stagiaires
  de niveau 3 (demi-tarif) et les stagiaires de niveau 4 ayant validé la s
 upervision 2+ et qui se préparent à leur niveau 5.\n 	Niveau 2 : lundi 2
 3 et mardi 24 novembre\, 9h-12h / 14h-17h et verbalisation classique le me
 rcredi 25 novembre\, 8h30 – 11h30\n 	Module verbalisation classique : me
 rcredi 25 novembre\, 8h30 – 11h30\n 	Verbalisation approfondie : mercred
 i 25 novembre\, 12h – 18h\nÉgalement accessible en visioconférence pou
 r les stagiaires de la Guadeloupe\, la Nouvelle-Calédonie\, la Réunion\
 , Tahiti et Canada\n 	Supervision 2 &amp\; 2+\, partie pratique : Dimanche
  22 novembre\, 12h-18h\n 	Bilan de compétences niveau 3 à 5 : Jeudi 26 n
 ovembre\, 9h – 12h / 14h – 17h et vendredi 27 novembre 8h30 – 11h30\
 n 	Auditeur libre : Jeudi 26 novembre\, 9h – 12h / 14h – 17h et vendre
 di 27 novembre 8h30 – 11h30\nÉgalement accessible en visioconférence p
 our les stagiaires de la Guadeloupe\, la Nouvelle-Calédonie\, la Réunion
 \, Tahiti et Canada\n 	Supervision 1\, partie pratique : Vendredi 27 novem
 bre\, 12h-18h\n\nIl vous est rappelé qu'après le niveau 2\, l'accès à 
 chaque module de formation est subordonné à un certain nombre de préreq
 uis (cf le récapitulatif de la formation)\, et qu'en conséquence l'absen
 ce de ces préalables ne vous permet pas l'accès au cours.\nIl vous appar
 tient donc avant chaque inscription de vérifier que vous remplissiez ces 
 conditions.\nLors des examens\, le stagiaire doit se mettre en contact ave
 c la formatrice Mme ROUZAUD pour connaître l'heure de passage du cobaye q
 u'il prévoit de faire venir !\nAttention pour l’inscription\, il ne fau
 t pas oublier les frais de dossier.\n\nVous avez la possibilité de faire 
 une séance avec la directrice des études à condition de réserver son c
 réneau à l'avance\, car il n'est possible d'avoir un rdv à la dernière
  minute.\n\n&nbsp\;\n\n&nbsp\;
ATTACH;FMTTYPE=image/jpeg:https://www.psycho-bio-acupressure.com/wp-conten
 t/uploads/2018/07/paris-3296269_640.jpg
CATEGORIES:France
LOCATION:Paris\, MAISON DE L'ASSOMPTION\, 17 rue de l'Assomption \, Paris\,
  75016\, France
GEO:48.853452;2.273298
X-APPLE-STRUCTURED-LOCATION;VALUE=URI;X-ADDRESS=MAISON DE L'ASSOMPTION\, 17
  rue de l'Assomption \, Paris\, 75016\, France;X-APPLE-RADIUS=100;X-TITLE=
 Paris:geo:48.853452,2.273298
END:VEVENT
BEGIN:VTIMEZONE
TZID:Europe/Paris
X-LIC-LOCATION:Europe/Paris
BEGIN:STANDARD
DTSTART:20261025T020000
TZOFFSETFROM:+0200
TZOFFSETTO:+0100
TZNAME:CET
END:STANDARD
END:VTIMEZONE
END:VCALENDAR