BEGIN:VCALENDAR
VERSION:2.0
PRODID:-//wp-events-plugin.com//7.2.3.1//EN
TZID:Europe/Paris
X-WR-TIMEZONE:Europe/Paris
BEGIN:VEVENT
UID:777@psycho-bio-acupressure.com
DTSTART;TZID=America/Toronto;VALUE=DATE:20260224
DTEND;TZID=America/Toronto;VALUE=DATE:20260304
DTSTAMP:20260227T055106Z
URL:https://www.psycho-bio-acupressure.com/Formations/formation-decouverte
 -et-prerequis-niveau-1-au-5-auditeur-libre-et-supervisions-a-quebec-2/
SUMMARY:Formation Découverte et Prérequis\, Niveau 1 au 5\, Auditeur libr
 e et Supervisions à Québec
DESCRIPTION:Formatrice : Mme Faïrouz ROUZAUD\n\nPour toutes questions\, v
 euillez contacter la formatrice : direction@institut-delatte.org\n\n 	Supe
 rvision 1\, 2 et 2+\, partie pratique : Mardi 24 février 2026\, 8h – 14
 h\n 	Découverte et Prérequis obligatoire pour le niveau 1 : Vendredi 27
  février 2026 2025\, 13h – 17h30\nQuand vous vous inscrivez au niveau 1
  et au niveau 2 en même temps\, le prérequis n’est plus demandé. Bien
  sûr\, vous pouvez le faire\, mais ce n’est pas obligatoire.\n 	Niveau 
 1 : Samedi 28 février 2026\, 8h – 14h\, et Dimanche 1er mars 2026\, 8h 
 – 11h\nÉgalement accessible en visioconférence pour les stagiaires de 
 niveau 3 (demi-tarif) et les stagiaires de niveau 4 ayant validé la super
 vision 2+ et qui se préparent à leur niveau 5.\n 	Niveau 2 : Dimanche 1e
 r mars 2026\, 12h – 18h et Lundi 2 mars 2026\, 8h – 14h\n 	Module verb
 alisation classique : Mardi 3 mars 2026\, 8h – 11h\n 	Bilan de compéten
 ces niveau de 3 à 5 : Mardi 3 mars 2026\, 12h – 18h\n 	Auditeur libre :
  Mardi 3 mars 2026\, 12h – 18h\n\nAttention pour l’inscription\, il ne
  faut pas oublier les frais de dossier.\n\nIl vous est rappelé qu’aprè
 s le niveau 2\, l’accès à chaque module de formation est subordonné 
 à un certain nombre de prérequis (cf. le récapitulatif de la formation)
 \, et qu’en conséquence l’absence de ces préalables ne vous permet p
 as l’accès au cours.\nIl vous appartient donc avant chaque inscription
  de vérifier que vous remplissiez ces conditions.\nLors des examens et d
 e la supervision\, le stagiaire doit se mettre en contact avec la formatri
 ce Mme ROUZAUD pour connaître l'heure de passage du cobaye qu'il prévoit
  de faire venir !\nFIDTA ACADÉMIE FORMATION a obtenu l’accréditation p
 ar Revenu Canada numéro: 17-11-3975.\n\nEn vertu du sous-paragraphe ii du
  paragraphe a de l’article 752.0.18.10 de la Loi sur les impôts\, les p
 articuliers peuvent ainsi avoir droit à un crédit d’impôt pour les fr
 ais de scolarité qu’ils ont payés.\n\nAfin d’en bénéficier\, vous 
 devez communiquer votre NAS lors de votre inscription\, en retour\, nous v
 ous transmettrons le relevé 8\, justifiant les frais que vous avez engag
 és.\n\n&nbsp\;\n\n&nbsp\;
ATTACH;FMTTYPE=image/jpeg:https://www.psycho-bio-acupressure.com/wp-conten
 t/uploads/2018/08/quebec-city-202152_640.jpg
CATEGORIES:Canada
LOCATION:Centre Chi à Québec\, 350 Boulevard Charest Est\, Édifice du Bo
 ulevard\, Bureau SS-10\, Québec\, G1K 3H4\, Canada
GEO:46.813413;-71.225335
X-APPLE-STRUCTURED-LOCATION;VALUE=URI;X-ADDRESS=350 Boulevard Charest Est\,
  Édifice du Boulevard\, Bureau SS-10\, Québec\, G1K 3H4\, Canada;X-APPLE
 -RADIUS=100;X-TITLE=Centre Chi à Québec:geo:46.813413,-71.225335
END:VEVENT
BEGIN:VTIMEZONE
TZID:America/Toronto
X-LIC-LOCATION:America/Toronto
BEGIN:STANDARD
DTSTART:20251102T010000
TZOFFSETFROM:-0400
TZOFFSETTO:-0500
TZNAME:EST
END:STANDARD
END:VTIMEZONE
END:VCALENDAR