BEGIN:VCALENDAR
VERSION:2.0
PRODID:-//wp-events-plugin.com//7.2.3.1//EN
TZID:Europe/Paris
X-WR-TIMEZONE:Europe/Paris
BEGIN:VEVENT
UID:747@psycho-bio-acupressure.com
DTSTART;TZID=America/Toronto;VALUE=DATE:20251122
DTEND;TZID=America/Toronto;VALUE=DATE:20251128
DTSTAMP:20250903T134443Z
URL:https://www.psycho-bio-acupressure.com/Formations/formation-decouverte
 -et-prerequis-niveau-1-au-5-auditeur-libre-et-supervisions-a-quebec/
SUMMARY:Formation Découverte et Prérequis\, Niveau 1 au 5\, Auditeur libr
 e et Supervisions à Québec
DESCRIPTION:Formatrice : Mme Faïrouz ROUZAUD\n\nPour toutes questions\, v
 euillez contacter la formatrice : direction@institut-delatte.org\n\n 	Déc
 ouverte et Prérequis obligatoire pour le niveau 1 : 22 novembre 2025\, 8
 h – 13h\nQuand vous vous inscrivez au niveau 1 et au niveau 2 en même t
 emps\, le prérequis n’est plus demandé. Bien sûr\, vous pouvez le fai
 re\, mais ce n’est pas obligatoire.\n 	Niveau 1 : 23 novembre 2025\, 9h 
 – 13h / 14h – 17h\, et 24 novembre 2025\, 9h – 12h\nÉgalement acces
 sible en visioconférence pour les stagiaires de niveau 3 (demi-tarif) e
 t les stagiaires de niveau 4 ayant validé la supervision 2+ et qui se pr
 éparent à leur niveau 5.\n 	Niveau 2 : 24 novembre\, 14h – 17h\, 25 no
 vembre 2025\, 9h – 12h / 14h – 17h\, 26 novembre 2025\, 9h – 12h\n 	
 Module verbalisation classique : 26 novembre 2025\, 14h – 17h\n 	Bilan d
 e compétences niveau de 3 à 5 : 27 novembre 2025\, 8h – 14h\n 	Auditeu
 r libre : 27 novembre 2025\, 8h – 14h\n 	Supervision 1\, 2 et 2+\, parti
 e pratique : 27 novembre 2025\, 8h – 14h\n\nAttention pour l’inscripti
 on\, il ne faut pas oublier les frais de dossier.\n\nIl vous est rappelé 
 qu’après le niveau 2\, l’accès à chaque module de formation est sub
 ordonné à un certain nombre de prérequis (cf. le récapitulatif de la f
 ormation)\, et qu’en conséquence l’absence de ces préalables ne vous
  permet pas l’accès au cours.\nIl vous appartient donc avant chaque ins
 cription de vérifier que vous remplissiez ces conditions.\nLors des exam
 ens et de la supervision\, le stagiaire doit se mettre en contact avec la 
 formatrice Mme ROUZAUD pour connaître l'heure de passage du cobaye qu'il 
 prévoit de faire venir !\nFIDTA ACADÉMIE FORMATION a obtenu l’accrédi
 tation par Revenu Canada numéro: 17-11-3975.\n\nEn vertu du sous-paragrap
 he ii du paragraphe a de l’article 752.0.18.10 de la Loi sur les impôts
 \, les particuliers peuvent ainsi avoir droit à un crédit d’impôt pou
 r les frais de scolarité qu’ils ont payés.\n\nAfin d’en bénéficier
 \, vous devez communiquer votre NAS lors de votre inscription\, en retour\
 , nous vous transmettrons le relevé 8\, justifiant les frais que vous ave
 z engagés.
ATTACH;FMTTYPE=image/jpeg:https://www.psycho-bio-acupressure.com/wp-conten
 t/uploads/2018/08/quebec-city-202152_640.jpg
CATEGORIES:Canada
LOCATION:Centre Chi à Québec\, 350 Boulevard Charest Est\, Édifice du Bo
 ulevard\, Bureau SS-10\, Québec\, G1K 3H4\, Canada
GEO:46.813413;-71.225335
X-APPLE-STRUCTURED-LOCATION;VALUE=URI;X-ADDRESS=350 Boulevard Charest Est\,
  Édifice du Boulevard\, Bureau SS-10\, Québec\, G1K 3H4\, Canada;X-APPLE
 -RADIUS=100;X-TITLE=Centre Chi à Québec:geo:46.813413,-71.225335
END:VEVENT
BEGIN:VTIMEZONE
TZID:America/Toronto
X-LIC-LOCATION:America/Toronto
BEGIN:STANDARD
DTSTART:20251102T010000
TZOFFSETFROM:-0400
TZOFFSETTO:-0500
TZNAME:EST
END:STANDARD
END:VTIMEZONE
END:VCALENDAR