BEGIN:VCALENDAR
VERSION:2.0
PRODID:-//wp-events-plugin.com//7.2.3.1//EN
TZID:Europe/Paris
X-WR-TIMEZONE:Europe/Paris
BEGIN:VEVENT
UID:757@psycho-bio-acupressure.com
DTSTART;TZID=Europe/Paris;VALUE=DATE:20260306
DTEND;TZID=Europe/Paris;VALUE=DATE:20260315
DTSTAMP:20260227T104221Z
URL:https://www.psycho-bio-acupressure.com/Formations/formation-decouverte
 -et-prerequis-niveau-1-au-5-auditeur-libre-verbalisation-approfondie-recyc
 lage-et-supervision-1-a-marseille/
SUMMARY:Formation Découverte et Prérequis\, Niveau 1 au 5\, Auditeur libr
 e\, Verbalisation approfondie\, Recyclage et supervision 1 à Marseille
DESCRIPTION:Formatrice : Mme Faïrouz ROUZAUD\n\nPour toute question\, mer
 ci de contacter la formatrice : direction@institut-delatte.org\n\nEn visio
 conférence :\n\n 	Découverte et Prérequis obligatoire pour le niveau 1
  : 6 mars 2026\, 9h – 12h30 / 13h30 – 16h30\nQuand vous vous inscrivez
  au niveau 1 et au niveau 2 en même temps\, le prérequis n’est plus de
 mandé. Bien sûr\, vous pouvez le faire\, mais ce n’est pas obligatoire
 .\n\nLieu : Cabinet Faïrouz Rouzaud : 10 rue du Dr Acquaviva\, 13004 Mars
 eille\n\n 	Niveau 1 : 7 mars 2026\, 9h – 12h / 14h – 17h\, 8 mars 2026
 \, 8h30 – 11h30\nÉgalement accessible en visioconférence pour les stag
 iaires de niveau 3 (demi-tarif) et les stagiaires de niveau 4 ayant valid
 é la supervision 2+ et qui se préparent à leur niveau 5.\n 	Niveau 2 : 
 9 et 10 mars 2026\, 9h – 12h / 14h – 17h + verbalisation classique (au
  centre Mistral) le 11 mars 2026\, 8h30 – 11h30\n 	Supervision 1\, parti
 e pratique : 14 mars 2026\, 9h – 12h / 14h – 17h\n\nLieu : Centre Mist
 ral\, 11 impasse Flammarion\, Marseille\n\n 	Module verbalisation classiqu
 e : 11 mars 2026\, 8h30 – 11h30\nÉgalement accessible en visioconféren
 ce pour les stagiaires de la Nouvelle-Calédonie\, La Réunion\, Tahiti e
 t Canada\n 	Verbalisation approfondie : 11 mars 2026\, 12h – 18h\nÉgale
 ment accessible en visioconférence pour les stagiaires de la Nouvelle-Ca
 lédonie\, La Réunion\, Tahiti et Canada\n 	Bilan de compétences niveaux
  3 à 5 : 12 et 13 mars 2026\, 9h – 12h / 14h – 17h\n\n 	Auditeur libr
 e : 12 et 13 mars 2026\, 9h – 12h / 14h – 17h\nÉgalement accessible e
 n visioconférence pour les stagiaires de la Nouvelle-Calédonie\, La Réu
 nion\, Tahiti et Canada\n\nLes stagiaires doivent apporter leurs fiches 
 de cas pour la supervision pratique.\n\nIl vous est rappelé qu’après 
 le niveau 2\, l’accès à chaque module de formation est subordonné à 
 un certain nombre de prérequis (cf le récapitulatif de la formation)\, e
 t qu’en conséquence l’absence de ces préalables ne vous permet pas l
 ’accès au cours.\nIl vous appartient donc avant chaque inscription de 
 vérifier que vous remplissiez ces conditions.\nLors des examens\, le stag
 iaire doit se mettre en contact avec la formatrice Mme ROUZAUD pour conna
 ître l’heure de passage du cobaye qu’il prévoit de faire venir !\nAt
 tention pour l’inscription\, il ne faut pas oublier les frais de dossier
 .\n\nVous avez la possibilité de faire une séance avec la directrice des
  études à condition de réserver son créneau très tôt\, car il n’es
 t pas possible d’avoir un rendez-vous à la dernière minute.\n\n&nbsp\;
 \n\n&nbsp\;
ATTACH;FMTTYPE=image/jpeg:https://www.psycho-bio-acupressure.com/wp-conten
 t/uploads/2018/07/marseille-3423494_640.jpg
CATEGORIES:France
LOCATION:Marseille\, Centre Le Mistral\, 11 Impasse Flammarion\, Marseille\
 , 13001\, France
GEO:43.304531;5.389186
X-APPLE-STRUCTURED-LOCATION;VALUE=URI;X-ADDRESS=Centre Le Mistral\, 11 Impa
 sse Flammarion\, Marseille\, 13001\, France;X-APPLE-RADIUS=100;X-TITLE=Mar
 seille:geo:43.304531,5.389186
END:VEVENT
BEGIN:VTIMEZONE
TZID:Europe/Paris
X-LIC-LOCATION:Europe/Paris
BEGIN:STANDARD
DTSTART:20251026T020000
TZOFFSETFROM:+0200
TZOFFSETTO:+0100
TZNAME:CET
END:STANDARD
END:VTIMEZONE
END:VCALENDAR