BEGIN:VCALENDAR
VERSION:2.0
PRODID:-//wp-events-plugin.com//7.2.3.1//EN
TZID:Europe/Paris
X-WR-TIMEZONE:Europe/Paris
BEGIN:VEVENT
UID:825@psycho-bio-acupressure.com
DTSTART;TZID=Europe/Paris;VALUE=DATE:20260612
DTEND;TZID=Europe/Paris;VALUE=DATE:20260619
DTSTAMP:20260409T140415Z
URL:https://www.psycho-bio-acupressure.com/Formations/formation-decouverte
 -et-prerequis-niveau-1-au-5-auditeur-libre-verbalisation-classique-approfo
 ndie-a-lyon/
SUMMARY:Formation Découverte et Prérequis\, Niveau 1 au 5\, Auditeur libr
 e\, Verbalisation classique & approfondie\, à Lyon
DESCRIPTION:Formatrice : Mme Faïrouz ROUZAUD\n\nPour toute question\, mer
 ci de contacter la formatrice : direction@institut-delatte.org\n\nEn visio
 conférence :\n\n 	Découverte et Prérequis obligatoire pour le niveau 1
  : 12 juin 2026\, 8h-13h\nQuand vous vous inscrivez au niveau 1 et au nive
 au 2 en même temps\, le prérequis n’est plus demandé. Bien sûr\, vou
 s pouvez le faire\, mais ce n’est pas obligatoire.\n\nEn présentiel : I
 bis Lyon Perrache : 28 Cr de Verdun Perrache\, 69002 Lyon\n\n 	Niveau 1 : 
 samedi 13 juin 2026\, 9h – 12h / 14h – 17h et dimanche 14 juin 2026\, 
 8h – 11h\nÉgalement accessible en visioconférence pour les stagiaires 
 de niveau 3 (demi-tarif) et les stagiaires de niveau 4 ayant validé la su
 pervision 2+ et qui se préparent à leur niveau 5.\n 	Niveau 2 : dimanche
  14 juin 2026 12h-17h &amp\; lundi 15 juin 2026\, 9h – 12h / 14h – 18h
  + verbalisation classique (incluse dans tarif niveau 2) le 16 juin 2026\,
  8h – 11h\n 	Module verbalisation classique : 16 juin 2026\, 8h – 11h\
 nÉgalement accessible en visioconférence pour les stagiaires de la Guade
 loupe\, la Nouvelle-Calédonie\, La Réunion\, La Guadeloupe\, Tahiti et C
 anada\n 	Verbalisation approfondie : 16 juin 2026\, 12h – 18h\nÉgalemen
 t accessible en visioconférence pour les stagiaires de la Guadeloupe\, l
 a Nouvelle-Calédonie\, La Réunion\, La Guadeloupe\, Tahiti et Canada\n 	
 Bilan de compétences niveaux 3 à 5 : 17 juin 2026\, 9h – 12h / 14h –
  17h \n\n 	Auditeur libre : 17 juin 2026\, 9h – 12h / 14h – 17h\nÉga
 lement accessible en visioconférence pour les stagiaires de la Guadeloupe
 \, la Nouvelle-Calédonie\, La Réunion\, La Guadeloupe\,Tahiti et Canada\
 n\nLes stagiaires doivent apporter leurs fiches de cas pour la supervis
 ion pratique.\n\nIl vous est rappelé qu’après le niveau 2\, l’accès
  à chaque module de formation est subordonné à un certain nombre de pr
 érequis (cf le récapitulatif de la formation)\, et qu’en conséquence 
 l’absence de ces préalables ne vous permet pas l’accès au cours.\nIl
  vous appartient donc avant chaque inscription de vérifier que vous remp
 lissiez ces conditions.\nLors des examens\, le stagiaire doit se mettre en
  contact avec la formatrice Mme ROUZAUD pour connaître l’heure de passa
 ge du cobaye qu’il prévoit de faire venir !\nAttention pour l’inscrip
 tion\, il ne faut pas oublier les frais de dossier.\n\nVous avez la possib
 ilité de faire une séance avec la directrice des études à condition de
  réserver son créneau très tôt\, car il n’est pas possible d’avoir
  un rendez-vous à la dernière minute.\n\n&nbsp\;\n\n&nbsp\;
ATTACH;FMTTYPE=image/jpeg:https://www.psycho-bio-acupressure.com/wp-conten
 t/uploads/2026/01/vieux-lyon.jpeg
CATEGORIES:France
LOCATION:Lyon\, Ibis Lyon Centre Perrache\, 28 Cours de Verdun Perrache\, L
 yon\, 69002\, France
GEO:45.7483953;4.828110700000025
X-APPLE-STRUCTURED-LOCATION;VALUE=URI;X-ADDRESS=Ibis Lyon Centre Perrache\,
  28 Cours de Verdun Perrache\, Lyon\, 69002\, France;X-APPLE-RADIUS=100;X-
 TITLE=Lyon:geo:45.7483953,4.828110700000025
END:VEVENT
BEGIN:VTIMEZONE
TZID:Europe/Paris
X-LIC-LOCATION:Europe/Paris
BEGIN:DAYLIGHT
DTSTART:20260329T030000
TZOFFSETFROM:+0100
TZOFFSETTO:+0200
TZNAME:CEST
END:DAYLIGHT
END:VTIMEZONE
END:VCALENDAR