BEGIN:VCALENDAR
VERSION:2.0
PRODID:-//wp-events-plugin.com//7.2.3.1//EN
TZID:Europe/Paris
X-WR-TIMEZONE:Europe/Paris
BEGIN:VEVENT
UID:756@psycho-bio-acupressure.com
DTSTART;TZID=Europe/Paris;VALUE=DATE:20251207
DTEND;TZID=Europe/Paris;VALUE=DATE:20251208
DTSTAMP:20250930T131702Z
URL:https://www.psycho-bio-acupressure.com/Formations/formation-journee-de
 -recyclage-niveau-5-a-paris-2/
SUMMARY:Formation Journée de recyclage niveau 5 à Paris
DESCRIPTION:Formatrice : Mme Faïrouz ROUZAUD\n\nPour toutes vos questions\
 , merci de contacter la formatrice : direction@institut-delatte.org\n\nJou
 rnée de recyclage niveau 5 : 7 décembre 2025\, 12h — 18h\nThème : les
  addictions\nÉgalement accessible en visioconférence pour les stagiaires
  de la Nouvelle-Calédonie\, La Réunion\, Tahiti et Canada\n\nIl vous est
  rappelé qu’après le niveau 2\, l’accès à chaque module de formati
 on est subordonné à un certain nombre de prérequis (cf. le récapitulat
 if de la formation)\, et qu’en conséquence l’absence de ces préalabl
 es ne vous permet pas l’accès au cours.\nIl vous appartient donc avant 
 chaque inscription de vérifier que vous remplissiez ces conditions.\n\nA
 ttention pour l’inscription\, il ne faut pas oublier les frais de dossie
 r\n\nVous avez la possibilité de faire une séance avec la directrice des
  études à condition de réserver son créneau à l’avance\, car il n
 ’est pas possible d’avoir un rdv à la dernière minute.
ATTACH;FMTTYPE=image/jpeg:https://www.psycho-bio-acupressure.com/wp-conten
 t/uploads/2018/07/paris-3296269_640.jpg
CATEGORIES:France
LOCATION:Paris\, MAISON DE L'ASSOMPTION\, 17 rue de l'Assomption \, Paris\,
  75016\, France
GEO:48.853452;2.273298
X-APPLE-STRUCTURED-LOCATION;VALUE=URI;X-ADDRESS=MAISON DE L'ASSOMPTION\, 17
  rue de l'Assomption \, Paris\, 75016\, France;X-APPLE-RADIUS=100;X-TITLE=
 Paris:geo:48.853452,2.273298
END:VEVENT
BEGIN:VTIMEZONE
TZID:Europe/Paris
X-LIC-LOCATION:Europe/Paris
BEGIN:STANDARD
DTSTART:20251026T020000
TZOFFSETFROM:+0200
TZOFFSETTO:+0100
TZNAME:CET
END:STANDARD
END:VTIMEZONE
END:VCALENDAR