BEGIN:VCALENDAR
VERSION:2.0
PRODID:-//wp-events-plugin.com//7.2.3.1//EN
TZID:Europe/Paris
X-WR-TIMEZONE:Europe/Paris
BEGIN:VEVENT
UID:779@psycho-bio-acupressure.com
DTSTART;TZID=Europe/Paris;VALUE=DATE:20260221
DTEND;TZID=Europe/Paris;VALUE=DATE:20260223
DTSTAMP:20260216T144616Z
URL:https://www.psycho-bio-acupressure.com/Formations/formation-journee-de
 couverte-a-la-pba-niveau-1-a-prades-haute-loire/
SUMMARY:Formation Journée Découverte à la PBA\, Niveau 1 à Prades (Haut
 e-Loire)
DESCRIPTION:Formatrice : Mme Laetitia VALADEAU\n\nPour toutes vos questions
 \, merci de contacter la formatrice : laetitiavaladeau@gmail.com\n\nLieu :
  Chalet de la source\, 925 route des sources 43300 Prades.\n\n 	Journée d
 écouverte de la PBA et Prérequis : Samedi 21 février 2026\, 8h30 — 13
 h\nQuand vous vous inscrivez au niveau 1 et au niveau 2 en même temps\, l
 e pré-requis n’est plus demandé. Bien sûr\, vous pouvez le faire\, ma
 is ce n’est pas obligatoire.\n 	Niveau 1 : Samedi 21 février 2026\, 14h
  à 17h\, et Dimanche 22 février 2026\, 8h30 à 14h30\n\nIl vous est rapp
 elé qu’après le niveau 2\, l’accès à chaque module de formation es
 t subordonné à un certain nombre de prérequis (cf. le récapitulatif de
  la formation)\, et qu’en conséquence l’absence de ces préalables ne
  vous permet pas l’accès au cours.\nIl vous appartient donc avant chaqu
 e inscription de vérifier que vous remplissiez ces conditions.\n\nAttent
 ion pour l’inscription\, il ne faut pas oublier les frais de dossier\n\n
 Vous avez la possibilité de faire une séance avec la directrice des étu
 des à condition de réserver son créneau à l’avance\, car il n’est 
 pas possible d’avoir un rdv à la dernière minute.\n\n&nbsp\;
ATTACH;FMTTYPE=image/jpeg:https://www.psycho-bio-acupressure.com/wp-conten
 t/uploads/2025/12/IMG_3879.jpeg
CATEGORIES:France
LOCATION:Prades - Chalet de la source\, 925 route des sources\, Prades\, 43
 300\, France
GEO:45.036264;3.585011
X-APPLE-STRUCTURED-LOCATION;VALUE=URI;X-ADDRESS=925 route des sources\, Pra
 des\, 43300\, France;X-APPLE-RADIUS=100;X-TITLE=Prades - Chalet de la sour
 ce:geo:45.036264,3.585011
END:VEVENT
BEGIN:VTIMEZONE
TZID:Europe/Paris
X-LIC-LOCATION:Europe/Paris
BEGIN:STANDARD
DTSTART:20251026T020000
TZOFFSETFROM:+0200
TZOFFSETTO:+0100
TZNAME:CET
END:STANDARD
END:VTIMEZONE
END:VCALENDAR