BEGIN:VCALENDAR
VERSION:2.0
PRODID:-//wp-events-plugin.com//7.2.3.1//EN
TZID:Europe/Paris
X-WR-TIMEZONE:Europe/Paris
BEGIN:VEVENT
UID:745@psycho-bio-acupressure.com
DTSTART;TZID=Europe/Paris;VALUE=DATE:20250906
DTEND;TZID=Europe/Paris;VALUE=DATE:20250908
DTSTAMP:20250828T153310Z
URL:https://www.psycho-bio-acupressure.com/Formations/formation-niveau-1-e
 t-2-pour-la-reunion-2/
SUMMARY:Formation Niveau 1 et 2 pour La Réunion
DESCRIPTION:Formateurs : M. Richard LAW MAN CO et Mme Nadjiba SULLIMAN\n\n
 Pour les questions\, merci de contacter la formatrice : nadjibasulliman@g
 mail.com\n\n 	Niveau 1 :6 septembre 2025\, 9h — 12h / 13h30 — 16h30 et
  7 septembre 2025  9h — 12h\n
ATTACH;FMTTYPE=image/jpeg:https://www.psycho-bio-acupressure.com/wp-conten
 t/uploads/2023/06/Saint_Denis_au_crepuscule_-_panoramio-scaled.jpg
CATEGORIES:Outre-mer
LOCATION:La Réunion (Saint-Denis) Centre Ti Caz Bien Naître\, Centre Ti C
 az Bien Naître 65\, rue Sainte-Marie  \, Saint-Denis\, 97400\, Réunion
GEO:-20.882481;55.454928
X-APPLE-STRUCTURED-LOCATION;VALUE=URI;X-ADDRESS=Centre Ti Caz Bien Naître 
 65\, rue Sainte-Marie  \, Saint-Denis\, 97400\, Réunion;X-APPLE-RADIUS=10
 0;X-TITLE=La Réunion (Saint-Denis) Centre Ti Caz Bien Naître:geo:-20.882
 481,55.454928
END:VEVENT
BEGIN:VTIMEZONE
TZID:Europe/Paris
X-LIC-LOCATION:Europe/Paris
BEGIN:DAYLIGHT
DTSTART:20250330T030000
TZOFFSETFROM:+0100
TZOFFSETTO:+0200
TZNAME:CEST
END:DAYLIGHT
END:VTIMEZONE
END:VCALENDAR