BEGIN:VCALENDAR
VERSION:2.0
PRODID:-//wp-events-plugin.com//7.2.3.1//EN
TZID:Europe/Paris
X-WR-TIMEZONE:Europe/Paris
BEGIN:VEVENT
UID:793@psycho-bio-acupressure.com
DTSTART;TZID=Indian/Reunion;VALUE=DATE:20260306
DTEND;TZID=Indian/Reunion;VALUE=DATE:20260312
DTSTAMP:20260227T104203Z
URL:https://www.psycho-bio-acupressure.com/Formations/formation-niveau-1-e
 t-2-pour-la-reunion-tampon/
SUMMARY:Pré-requis\, Formation Niveau 1 et 2 pour La Réunion (Tampon)
DESCRIPTION:Formatrice : Mme Faïrouz ROUZAUD\n\nPour toute question\, mer
 ci de contacter la formatrice : direction@institut-delatte.org\n\n 	EN VIS
 IO : Découverte et Pré-requis obligatoire pour le niveau 1 : 6 mars 2026
 \, 9h – 12h30 / 13h30 – 16h30 (Heure Paris)\nQuand vous vous inscrivez
  au niveau 1 et au niveau 2 en même temps\, le prérequis n’est plus de
 mandé. Bien sûr\, vous pouvez le faire\, mais ce n’est pas obligatoire
 .\n\nau cabinet de Sylvia :\n\n 	Niveau 2 : Lundi 9 mars 12h-15h / 17h-20h
  et mardi 10 mars 2026 12h-15h / 17h-20h (Heure La Réunion)\n 	Verbalisat
 ion classique : Mercredi 11 mars 2026 11h30-14h30 (Heure La Réunion)\n\n&
 nbsp\;\n\n&nbsp\;\n\nFormatrice : Sylvia Heymann\n\nPour les questions\, 
 merci de contacter la formatrice : sylvia.rayunion@gmail.com\n\n 	Niveau 1
  : Samedi 7 mars 2026\, 9h-12h / 13h-16h et dimanche 8 mars 2026 9h-12h (H
 eure La Réunion)\n
ATTACH;FMTTYPE=image/jpeg:https://www.psycho-bio-acupressure.com/wp-conten
 t/uploads/2023/06/Saint_Denis_au_crepuscule_-_panoramio-scaled.jpg
CATEGORIES:Outre-mer
LOCATION:La Réunion (Tampon) Cabinet Sylvia\, Le Tampon\, 97430\, Réunion
GEO:-21.282097;55.518904
X-APPLE-STRUCTURED-LOCATION;VALUE=URI;X-ADDRESS=Le Tampon\, 97430\, Réunio
 n;X-APPLE-RADIUS=100;X-TITLE=La Réunion (Tampon) Cabinet Sylvia:geo:-21.2
 82097,55.518904
END:VEVENT
BEGIN:VTIMEZONE
TZID:Indian/Reunion
X-LIC-LOCATION:Indian/Reunion
BEGIN:STANDARD
DTSTART:20250306T000000
TZOFFSETFROM:+0400
TZOFFSETTO:+0400
TZNAME:+04
END:STANDARD
END:VTIMEZONE
END:VCALENDAR