BEGIN:VCALENDAR
VERSION:2.0
PRODID:-//wp-events-plugin.com//7.2.3.1//EN
TZID:Europe/Paris
X-WR-TIMEZONE:Europe/Paris
BEGIN:VEVENT
UID:792@psycho-bio-acupressure.com
DTSTART;TZID=Europe/Paris;VALUE=DATE:20260306
DTEND;TZID=Europe/Paris;VALUE=DATE:20260312
DTSTAMP:20260227T104252Z
URL:https://www.psycho-bio-acupressure.com/Formations/formation-niveau-2-e
 t-verbalisation-classique-a-angers/
SUMMARY:Journée Découverte et pré-requis\, Niveau 1\, Niveau 2\, Verbali
 sation classique et verbalisation approfondie à Angers
DESCRIPTION:Formatrice : Mme Laetitia VALADEAU\n\nPour toute question\, mer
 ci de contacter la formatrice : laetitiavaladeau@gmail.com\nTél. : 07.65.
 87.08.18\n\n 	Journée découverte à la PBA et Pré-requis Niveau 1 : ven
 dredi 6 mars 2026\, 9h – 12h / 13h – 17h\nQuand vous vous inscrivez au
  niveau 1 et au niveau 2 en même temps\, le pré-requis n’est plus dema
 ndé.\nBien sûr\, vous pouvez le faire\, mais ce n’est pas obligatoire.
 \n 	Niveau 1 : samedi 7 mars 2026\, 14h – 17h\, et dimanche 8 mars 2026\
 , 9h – 12h / 13h – 17h\n\nLieu : Cabinet de Laetitia Valadeau : 19\, r
 ue Marceau - Angers\n\n&nbsp\;\n\nFormatrice : Mme Faïrouz ROUZAUD\n\nPo
 ur les questions\, merci de contacter l'organisatrice : laetitiavaladeau@g
 mail.com.\n\n 	Niveau 2 : 9 et 10 mars 2026\, 9h – 12h et 14h – 17h\n 
 	Module verbalisation classique : 11 mars 2026\, 8h30 – 11h30\n 	Module 
 verbalisation approfondie : 11 mars 2026\, 12h – 18h\n\nLieu : salle aca
 cia au Tiers-Lieu de l'Esviere - Fondacio 2\, rue de l'Esviere 49100 Anger
 s\n\nAttention pour l’inscription\, il ne faut pas oublier les frais de 
 dossier\n\n&nbsp\;\n\n&nbsp\;
ATTACH;FMTTYPE=image/jpeg:https://www.psycho-bio-acupressure.com/wp-conten
 t/uploads/2025/09/angers.jpg
CATEGORIES:France
LOCATION:Angers\, Cabinet PBA Laetitia Valadeau\, 19\, rue Marceau\, Angers
 \, 49100\, France
GEO:47.4668;-0.559042
X-APPLE-STRUCTURED-LOCATION;VALUE=URI;X-ADDRESS=Cabinet PBA Laetitia Valade
 au\, 19\, rue Marceau\, Angers\, 49100\, France;X-APPLE-RADIUS=100;X-TITLE
 =Angers:geo:47.4668,-0.559042
END:VEVENT
BEGIN:VTIMEZONE
TZID:Europe/Paris
X-LIC-LOCATION:Europe/Paris
BEGIN:STANDARD
DTSTART:20251026T020000
TZOFFSETFROM:+0200
TZOFFSETTO:+0100
TZNAME:CET
END:STANDARD
END:VTIMEZONE
END:VCALENDAR