BEGIN:VCALENDAR
VERSION:2.0
PRODID:-//wp-events-plugin.com//7.2.3.1//EN
TZID:Europe/Paris
X-WR-TIMEZONE:Europe/Paris
BEGIN:VEVENT
UID:755@psycho-bio-acupressure.com
DTSTART;TZID=Europe/Paris:20251108T120000
DTEND;TZID=Europe/Paris:20251108T180000
DTSTAMP:20250930T090258Z
URL:https://www.psycho-bio-acupressure.com/Formations/formation-supervisio
 n-1-a-marseille-2/
SUMMARY:Formation Supervision 1 à Marseille
DESCRIPTION:Formatrice : Mme Faïrouz ROUZAUD\n\nPour toutes questions\, m
 erci de contacter la formatrice : direction@institut-delatte.org.\n\n 	Sup
 ervision 1\, partie pratique : 8 novembre 2025\, 12h - 18h\n\nLes stagiair
 es doivent apporter leurs fiches de cas pour la supervision pratique.\n\nI
 l vous est rappelé qu’après le niveau 2\, l’accès à chaque module 
 de formation est subordonné à un certain nombre de prérequis (cf. le r
 écapitulatif de la formation)\, et qu’en conséquence l’absence de ce
 s préalables ne vous permet pas l’accès au cours.\nIl vous appartient 
 donc avant chaque inscription de vérifier que vous remplissiez ces condi
 tions.
ATTACH;FMTTYPE=image/jpeg:https://www.psycho-bio-acupressure.com/wp-conten
 t/uploads/2018/07/marseille-3423494_640.jpg
CATEGORIES:France
LOCATION:Cabinet Faïrouz Rouzaud\, 10 rue du Dr Acquaviva\, Marseille\, Bo
 uches-du-Rhône\, 13004\, France
GEO:43.302243;5.399445
X-APPLE-STRUCTURED-LOCATION;VALUE=URI;X-ADDRESS=10 rue du Dr Acquaviva\, Ma
 rseille\, Bouches-du-Rhône\, 13004\, France;X-APPLE-RADIUS=100;X-TITLE=Ca
 binet Faïrouz Rouzaud:geo:43.302243,5.399445
END:VEVENT
BEGIN:VTIMEZONE
TZID:Europe/Paris
X-LIC-LOCATION:Europe/Paris
BEGIN:STANDARD
DTSTART:20251026T020000
TZOFFSETFROM:+0200
TZOFFSETTO:+0100
TZNAME:CET
END:STANDARD
END:VTIMEZONE
END:VCALENDAR