BEGIN:VCALENDAR
VERSION:2.0
PRODID:-//wp-events-plugin.com//7.2.3.1//EN
TZID:Europe/Paris
X-WR-TIMEZONE:Europe/Paris
BEGIN:VEVENT
UID:748@psycho-bio-acupressure.com
DTSTART;TZID=Europe/Paris:20251031T190000
DTEND;TZID=Europe/Paris:20251102T210000
DTSTAMP:20251014T070459Z
URL:https://www.psycho-bio-acupressure.com/Formations/formation-supervisio
 n-1-en-visioconference-14/
SUMMARY:Formation Supervision 1 en visioconférence
DESCRIPTION:Formatrice : Mme Valérie BONPAS\n\nPour toutes questions\, mer
 ci de contacter la formatrice : valerie.bonpas@fidta.fr.\n\nLa partie thé
 orie va vous être enseignée en visioconférence.\nLa partie « pratique 
 » sera à valider plus tard sur une journée en présentiel.\n\n 	Supervi
 sion 1\, partie théorique : 31 octobre\, 1er et 2 novembre 2025\, 19 h 
 – 21 h (Heure de Paris)\n\nNOUS VOUS RAPPELONS QUE LES COURS DONNÉS EN 
 LIGNE SONT UNE OPPORTUNITÉ POUR VOUS PERMETTRE D’AVANCER DANS VOTRE CUR
 SUS.\nNOUS ATTIRONS VOTRE ATTENTION SUR VOTRE RESPONSABILITÉ DE VOUS ASSU
 RER D’AVOIR UNE BONNE CONNEXION AINSI QU’UN MICRO ET UNE CAMÉRA QUI F
 ONCTIONNENT.\nMERCI POUR VOTRE COMPRÉHENSION.\n\nIl vous est rappelé qu
 ’après le niveau 2\, l’accès à chaque module de formation est subor
 donné à un certain nombre de prérequis (cf le récapitulatif de la form
 ation)\, et qu’en conséquence l’absence de ces préalables ne vous pe
 rmet pas l’accès au cours.\nIl vous appartient donc avant chaque inscri
 ption de vérifier que vous remplissiez ces conditions.
ATTACH;FMTTYPE=image/jpeg:https://www.psycho-bio-acupressure.com/wp-conten
 t/uploads/2020/10/conf.jpg
CATEGORIES:Visioconférence
LOCATION:En visioconférence\, En visioconférence\,  \, France
GEO:46.227638;2.213749
X-APPLE-STRUCTURED-LOCATION;VALUE=URI;X-ADDRESS=En visioconférence\,  \, F
 rance;X-APPLE-RADIUS=100;X-TITLE=En visioconférence:geo:46.227638,2.21374
 9
END:VEVENT
BEGIN:VTIMEZONE
TZID:Europe/Paris
X-LIC-LOCATION:Europe/Paris
BEGIN:STANDARD
DTSTART:20251026T020000
TZOFFSETFROM:+0200
TZOFFSETTO:+0100
TZNAME:CET
END:STANDARD
END:VTIMEZONE
END:VCALENDAR