BEGIN:VCALENDAR
VERSION:2.0
PRODID:-//wp-events-plugin.com//7.2.3.1//EN
TZID:Europe/Paris
X-WR-TIMEZONE:Europe/Paris
BEGIN:VEVENT
UID:750@psycho-bio-acupressure.com
DTSTART;TZID=Europe/Paris:20250921T190000
DTEND;TZID=Europe/Paris:20250923T212000
DTSTAMP:20250909T160115Z
URL:https://www.psycho-bio-acupressure.com/Formations/formation-supervisio
 n-1-en-visioconference-16/
SUMMARY:Formation Supervision 1 en visioconférence
DESCRIPTION:Formatrice : Mme Valérie BONPAS\n\nPour toutes questions\, mer
 ci de contacter la formatrice : valerie.bonpas@fidta.fr.\n\nLa partie thé
 orie va vous être enseignée en visioconférence.\nLa partie « pratique 
 » sera à valider plus tard sur une journée en présentiel.\n\n 	Supervi
 sion 1\, partie théorique : 21\, 22 et 23 septembre 2025\, 19 h – 21 h 
 20 (Heure de Paris)\n\nNOUS VOUS RAPPELONS QUE LES COURS DONNÉS EN LIGNE 
 SONT UNE OPPORTUNITÉ POUR VOUS PERMETTRE D’AVANCER DANS VOTRE CURSUS.\n
 NOUS ATTIRONS VOTRE ATTENTION SUR VOTRE RESPONSABILITÉ DE VOUS ASSURER D
 ’AVOIR UNE BONNE CONNEXION AINSI QU’UN MICRO ET UNE CAMÉRA QUI FONCTI
 ONNENT.\nMERCI POUR VOTRE COMPRÉHENSION.\n\nIl vous est rappelé qu’apr
 ès le niveau 2\, l’accès à chaque module de formation est subordonné
  à un certain nombre de prérequis (cf le récapitulatif de la formation)
 \, et qu’en conséquence l’absence de ces préalables ne vous permet p
 as l’accès au cours.\nIl vous appartient donc avant chaque inscription
  de vérifier que vous remplissiez ces conditions.
ATTACH;FMTTYPE=image/jpeg:https://www.psycho-bio-acupressure.com/wp-conten
 t/uploads/2020/10/conf.jpg
CATEGORIES:Visioconférence
LOCATION:En visioconférence\, En visioconférence\,  \, France
GEO:46.227638;2.213749
X-APPLE-STRUCTURED-LOCATION;VALUE=URI;X-ADDRESS=En visioconférence\,  \, F
 rance;X-APPLE-RADIUS=100;X-TITLE=En visioconférence:geo:46.227638,2.21374
 9
END:VEVENT
BEGIN:VTIMEZONE
TZID:Europe/Paris
X-LIC-LOCATION:Europe/Paris
BEGIN:DAYLIGHT
DTSTART:20250330T030000
TZOFFSETFROM:+0100
TZOFFSETTO:+0200
TZNAME:CEST
END:DAYLIGHT
END:VTIMEZONE
END:VCALENDAR