BEGIN:VCALENDAR
VERSION:2.0
PRODID:-//wp-events-plugin.com//7.2.3.1//EN
TZID:Europe/Paris
X-WR-TIMEZONE:Europe/Paris
BEGIN:VEVENT
UID:773@psycho-bio-acupressure.com
DTSTART;TZID=Europe/Paris:20260206T180000
DTEND;TZID=Europe/Paris:20260208T202000
DTSTAMP:20260203T091355Z
URL:https://www.psycho-bio-acupressure.com/Formations/formation-supervisio
 n-1-theorique-en-visioconference/
SUMMARY:Formation Supervision 1 théorique en visioconférence
DESCRIPTION:Formatrice : Mme Valérie BONPAS\n\nPour toutes questions\, mer
 ci de contacter la formatrice : valerie.bonpas@fidta.fr.\n\nLa partie thé
 orie va vous être enseignée en visioconférence.\nLa partie « pratique 
 » sera à valider plus tard sur une journée en présentiel.\n\n 	Supervi
 sion 1\, partie théorique : 6\,7\, 8 février 2026\, 18h à 20h20 (Heure 
 de Paris)\n\nNOUS VOUS RAPPELONS QUE LES COURS DONNÉS EN LIGNE SONT UNE O
 PPORTUNITÉ POUR VOUS PERMETTRE D’AVANCER DANS VOTRE CURSUS.\nNOUS ATTIR
 ONS VOTRE ATTENTION SUR VOTRE RESPONSABILITÉ DE VOUS ASSURER D’AVOIR UN
 E BONNE CONNEXION AINSI QU’UN MICRO ET UNE CAMÉRA QUI FONCTIONNENT.\nME
 RCI POUR VOTRE COMPRÉHENSION.\n\nIl vous est rappelé qu’après le nive
 au 2\, l’accès à chaque module de formation est subordonné à un cert
 ain nombre de prérequis (cf le récapitulatif de la formation)\, et qu’
 en conséquence l’absence de ces préalables ne vous permet pas l’acc
 ès au cours.\nIl vous appartient donc avant chaque inscription de vérif
 ier que vous remplissiez ces conditions.\n\n&nbsp\;\n\n&nbsp\;
ATTACH;FMTTYPE=image/jpeg:https://www.psycho-bio-acupressure.com/wp-conten
 t/uploads/2020/10/conf.jpg
CATEGORIES:Visioconférence
LOCATION:En visioconférence\, En visioconférence\,  \, France
GEO:46.227638;2.213749
X-APPLE-STRUCTURED-LOCATION;VALUE=URI;X-ADDRESS=En visioconférence\,  \, F
 rance;X-APPLE-RADIUS=100;X-TITLE=En visioconférence:geo:46.227638,2.21374
 9
END:VEVENT
BEGIN:VTIMEZONE
TZID:Europe/Paris
X-LIC-LOCATION:Europe/Paris
BEGIN:STANDARD
DTSTART:20251026T020000
TZOFFSETFROM:+0200
TZOFFSETTO:+0100
TZNAME:CET
END:STANDARD
END:VTIMEZONE
END:VCALENDAR