BEGIN:VCALENDAR
VERSION:2.0
PRODID:-//wp-events-plugin.com//7.2.3.1//EN
TZID:Europe/Paris
X-WR-TIMEZONE:Europe/Paris
BEGIN:VEVENT
UID:775@psycho-bio-acupressure.com
DTSTART;TZID=Europe/Paris;VALUE=DATE:20251220
DTEND;TZID=Europe/Paris;VALUE=DATE:20251223
DTSTAMP:20251117T080652Z
URL:https://www.psycho-bio-acupressure.com/Formations/formation-supervisio
 n-2-en-visioconference-8/
SUMMARY:Formation Supervision 2 en visioconférence
DESCRIPTION:Formatrice : Mme Faïrouz ROUZAUD\n\nPour les questions\, merc
 i de contacter la formatrice : direction@institut-delatte.org\n\nLa partie
  théorie va vous être enseignée en visioconférence.\nLa partie « pr
 atique » sera à valider plus tard sur une journée en présentiel.\n\n
  	Supervision 2\, partie théorique : samedi 20 décembre et dimanche 21 d
 écembre 2025 de 15h à 17h et lundi 22 décembre 2025 de 18h30 à 20h30 (
 horaires de Paris)\n\nNOUS VOUS RAPPELONS QUE LES COURS DONNÉS EN LIGNE S
 ONT UNE OPPORTUNITÉ POUR VOUS PERMETTRE D’AVANCER DANS VOTRE CURSUS.\nN
 OUS ATTIRONS VOTRE ATTENTION SUR VOTRE RESPONSABILITÉ DE VOUS ASSURER D
 ’AVOIR UNE BONNE CONNEXION AINSI QU’UN MICRO ET UNE CAMÉRA QUI FONCTI
 ONNENT.\nMERCI POUR VOTRE COMPRÉHENSION.\n\nIl vous est rappelé qu’apr
 ès le niveau 2\, l’accès à chaque module de formation est subordonné
  à un certain nombre de prérequis (cf. le récapitulatif de la formation
 )\, et qu’en conséquence l’absence de ces préalables ne vous permet 
 pas l’accès au cours.\nIl vous appartient donc avant chaque inscription
  de vérifier que vous remplissiez ces conditions.\n\n[dt_highlight color
 ="blue" text_color="" bg_color=""]En particulier\, pour la supervision\, v
 ous devez envoyer vos fiches de cas par courriel ![/dt_highlight]\n\n&nbsp
 \;\n\nDate limite d'inscription : 6 décembre 2025 à 14h
ATTACH;FMTTYPE=image/jpeg:https://www.psycho-bio-acupressure.com/wp-conten
 t/uploads/2020/10/conf.jpg
CATEGORIES:Visioconférence
LOCATION:En visioconférence\, En visioconférence\,  \, France
GEO:46.227638;2.213749
X-APPLE-STRUCTURED-LOCATION;VALUE=URI;X-ADDRESS=En visioconférence\,  \, F
 rance;X-APPLE-RADIUS=100;X-TITLE=En visioconférence:geo:46.227638,2.21374
 9
END:VEVENT
BEGIN:VTIMEZONE
TZID:Europe/Paris
X-LIC-LOCATION:Europe/Paris
BEGIN:STANDARD
DTSTART:20251026T020000
TZOFFSETFROM:+0200
TZOFFSETTO:+0100
TZNAME:CET
END:STANDARD
END:VTIMEZONE
END:VCALENDAR