BEGIN:VCALENDAR
VERSION:2.0
PRODID:-//wp-events-plugin.com//7.2.3.1//EN
TZID:Europe/Paris
X-WR-TIMEZONE:Europe/Paris
BEGIN:VEVENT
UID:795@psycho-bio-acupressure.com
DTSTART;TZID=Australia/Brisbane;VALUE=DATE:20260124
DTEND;TZID=Australia/Brisbane;VALUE=DATE:20260126
DTSTAMP:20260113T162804Z
URL:https://www.psycho-bio-acupressure.com/Formations/formation-supervisio
 n-2-en-visioconference-depuis-brisbane-australie/
SUMMARY:Formation Supervision 2 en visioconférence (depuis Brisbane\, Aust
 ralie)
DESCRIPTION:Formatrice : Mme Faïrouz ROUZAUD\n\nPour les questions\, merc
 i de contacter la formatrice : direction@institut-delatte.org\n\nLa partie
  théorie va vous être enseignée en visioconférence.\nLa partie « pr
 atique » sera à valider plus tard sur une journée en présentiel.\n\n
  	Supervision 2\, partie théorique : samedi 24 et dimanche 25 janvier de 
 17h à 20h (horaires de Brisbane\, Australie)\n\nNOUS VOUS RAPPELONS QUE L
 ES COURS DONNÉS EN LIGNE SONT UNE OPPORTUNITÉ POUR VOUS PERMETTRE D’AV
 ANCER DANS VOTRE CURSUS.\nNOUS ATTIRONS VOTRE ATTENTION SUR VOTRE RESPONSA
 BILITÉ DE VOUS ASSURER D’AVOIR UNE BONNE CONNEXION AINSI QU’UN MICRO 
 ET UNE CAMÉRA QUI FONCTIONNENT.\nMERCI POUR VOTRE COMPRÉHENSION.\n\nIl v
 ous est rappelé qu’après le niveau 2\, l’accès à chaque module de 
 formation est subordonné à un certain nombre de prérequis (cf. le réca
 pitulatif de la formation)\, et qu’en conséquence l’absence de ces pr
 éalables ne vous permet pas l’accès au cours.\nIl vous appartient donc
  avant chaque inscription de vérifier que vous remplissiez ces condition
 s.\n\n[dt_highlight color="blue" text_color="" bg_color=""]En particulier\
 , pour la supervision\, vous devez envoyer vos fiches de cas par courriel 
 ![/dt_highlight]
ATTACH;FMTTYPE=image/jpeg:https://www.psycho-bio-acupressure.com/wp-conten
 t/uploads/2020/10/conf.jpg
CATEGORIES:Visioconférence
LOCATION:En visioconférence\, En visioconférence\,  \, France
GEO:46.227638;2.213749
X-APPLE-STRUCTURED-LOCATION;VALUE=URI;X-ADDRESS=En visioconférence\,  \, F
 rance;X-APPLE-RADIUS=100;X-TITLE=En visioconférence:geo:46.227638,2.21374
 9
END:VEVENT
BEGIN:VTIMEZONE
TZID:Australia/Brisbane
X-LIC-LOCATION:Australia/Brisbane
BEGIN:STANDARD
DTSTART:20250124T000000
TZOFFSETFROM:+1000
TZOFFSETTO:+1000
TZNAME:AEST
END:STANDARD
END:VTIMEZONE
END:VCALENDAR