BEGIN:VCALENDAR
VERSION:2.0
PRODID:-//wp-events-plugin.com//7.2.3.1//EN
TZID:Europe/Paris
X-WR-TIMEZONE:Europe/Paris
BEGIN:VEVENT
UID:758@psycho-bio-acupressure.com
DTSTART;TZID=Europe/Paris:20251109T080000
DTEND;TZID=Europe/Paris:20251109T140000
DTSTAMP:20251029T160340Z
URL:https://www.psycho-bio-acupressure.com/Formations/formation-supervisio
 n-2-et-2-pratique-a-marseille-2/
SUMMARY:Formation Supervision 2 et 2+ pratique à Marseille
DESCRIPTION:Formatrice : Mme Faïrouz ROUZAUD\n\nPour toute question\, veu
 illez contacter la formatrice : direction@institut-delatte.org\n\nLa parti
 e « pratique » est réservée aux gens qui ont suivi la partie théoriqu
 e en ligne :\n\n 	Supervision 2 &amp\; 2+\, partie pratique : 9 novembre\,
  8h - 14h\n\nIl vous est rappelé qu’après le niveau 2\, l’accès à 
 chaque module de formation est subordonné à un certain nombre de préreq
 uis (cf le récapitulatif de la formation)\, et qu’en conséquence l’a
 bsence de ces préalables ne vous permet pas l’accès au cours.\nIl vous
  appartient donc avant chaque inscription de vérifier que vous remplissi
 ez ces conditions.\nLors des supervisions pratiques\, le stagiaire doit se
  mettre en contact avec la formatrice Mme ROUZAUD pour connaître l’heur
 e de passage du cobaye qu’il prévoit de faire venir !\nLes stagiaires d
 oivent apporter leurs fiches de cas pour la supervision pratique.\n\nAt
 tention pour l’inscription\, il ne faut pas oublier les frais de dossier
 .
ATTACH;FMTTYPE=image/jpeg:https://www.psycho-bio-acupressure.com/wp-conten
 t/uploads/2018/07/marseille-3423494_640.jpg
CATEGORIES:France
LOCATION:Cabinet Faïrouz Rouzaud\, 10 rue du Dr Acquaviva\, Marseille\, Bo
 uches-du-Rhône\, 13004\, France
GEO:43.302243;5.399445
X-APPLE-STRUCTURED-LOCATION;VALUE=URI;X-ADDRESS=10 rue du Dr Acquaviva\, Ma
 rseille\, Bouches-du-Rhône\, 13004\, France;X-APPLE-RADIUS=100;X-TITLE=Ca
 binet Faïrouz Rouzaud:geo:43.302243,5.399445
END:VEVENT
BEGIN:VTIMEZONE
TZID:Europe/Paris
X-LIC-LOCATION:Europe/Paris
BEGIN:STANDARD
DTSTART:20251026T020000
TZOFFSETFROM:+0200
TZOFFSETTO:+0100
TZNAME:CET
END:STANDARD
END:VTIMEZONE
END:VCALENDAR