BEGIN:VCALENDAR
VERSION:2.0
PRODID:-//wp-events-plugin.com//7.2.3.1//EN
TZID:Europe/Paris
X-WR-TIMEZONE:Europe/Paris
BEGIN:VEVENT
UID:768@psycho-bio-acupressure.com
DTSTART;TZID=Europe/Paris:20251219T180000
DTEND;TZID=Europe/Paris:20251221T200000
DTSTAMP:20251106T102939Z
URL:https://www.psycho-bio-acupressure.com/Formations/formation-supervisio
 n-2-liste-bebe-elaboree-en-visioconference/
SUMMARY:Formation Supervision 2+ (liste bébé élaborée) en visioconfére
 nce
DESCRIPTION:Formatrice : Mme Faïrouz ROUZAUD\n\nPour toutes questions\, m
 erci de contacter la formatrice : direction@institut-delatte.org.\n\nLa pa
 rtie théorie va vous être enseignée en visioconférence.\nLa partie « 
 pratique » sera à valider plus tard sur une journée en présentiel.\n\n
  	Supervision 2+\, partie théorique : 19\,20 et 21 décembre 2025\, 18h 
 – 20h (heure de Paris)\nListe bébé élaborée\n\nNOUS VOUS RAPPELONS Q
 UE LES COURS DONNÉS EN LIGNE SONT UNE OPPORTUNITÉ POUR VOUS PERMETTRE D
 ’AVANCER DANS VOTRE CURSUS.\nNOUS ATTIRONS VOTRE ATTENTION SUR VOTRE RES
 PONSABILITÉ DE VOUS ASSURER D’AVOIR UNE BONNE CONNEXION AINSI QU’UN M
 ICRO ET UNE CAMÉRA QUI FONCTIONNENT.\nMERCI POUR VOTRE COMPRÉHENSION.\n\
 nIl vous est rappelé qu’après le niveau 2\, l’accès à chaque modul
 e de formation est subordonné à un certain nombre de prérequis (cf. le 
 récapitulatif de la formation)\, et qu’en conséquence l’absence de c
 es préalables ne vous permet pas l’accès au cours.\nIl vous appartient
  donc avant chaque inscription de vérifier que vous remplissiez ces cond
 itions.\n\n[dt_highlight color="blue" text_color="" bg_color=""]En particu
 lier\, pour la supervision\, vous devez envoyer vos fiches de cas par cour
 riel ![/dt_highlight]\n\n&nbsp\;\n\nDate limite d'inscription : 05/12/2025
  à 17h
ATTACH;FMTTYPE=image/jpeg:https://www.psycho-bio-acupressure.com/wp-conten
 t/uploads/2020/10/conf.jpg
CATEGORIES:Visioconférence
LOCATION:En visioconférence\, En visioconférence\,  \, France
GEO:46.227638;2.213749
X-APPLE-STRUCTURED-LOCATION;VALUE=URI;X-ADDRESS=En visioconférence\,  \, F
 rance;X-APPLE-RADIUS=100;X-TITLE=En visioconférence:geo:46.227638,2.21374
 9
END:VEVENT
BEGIN:VTIMEZONE
TZID:Europe/Paris
X-LIC-LOCATION:Europe/Paris
BEGIN:STANDARD
DTSTART:20251026T020000
TZOFFSETFROM:+0200
TZOFFSETTO:+0100
TZNAME:CET
END:STANDARD
END:VTIMEZONE
END:VCALENDAR