BEGIN:VCALENDAR
VERSION:2.0
PRODID:-//wp-events-plugin.com//7.2.3.1//EN
TZID:Europe/Paris
X-WR-TIMEZONE:Europe/Paris
BEGIN:VEVENT
UID:731@psycho-bio-acupressure.com
DTSTART;TZID=Europe/Paris;VALUE=DATE:20251031
DTEND;TZID=Europe/Paris;VALUE=DATE:20251103
DTSTAMP:20250729T150411Z
URL:https://www.psycho-bio-acupressure.com/Formations/journee-decouverte-a
 -la-pba-et-niveau-1-a-biganos/
SUMMARY:Journée Découverte à la PBA et Niveau 1 à BIGANOS
DESCRIPTION:Formatrice : Mme Sabrina COLAS\n\nPour toute question\, merci d
 e contacter la formatrice : sabrinacolas.pba@gmail.com\n\n 	Journée déco
 uverte à la PBA et Prérequis Niveau 1 : 31 octobre 2025\, 9h30 – 12h30
  / 13h30 – 17h30\nQuand vous vous inscrivez au niveau 1 et au niveau 2 e
 n même temps\, le prérequis n’est plus demandé.\nBien sûr\, vous pou
 vez le faire\, mais ce n’est pas obligatoire.\n 	Niveau 1 : 1er novembre
  2025\, 9h30 – 12h30 / 13h30 – 17h30\, et 2 novembre 2025\, 9h30 – 1
 2h30\n\nAttention pour l’inscription\, il ne faut pas oublier les frais 
 de dossier
ATTACH;FMTTYPE=image/jpeg:https://www.psycho-bio-acupressure.com/wp-conten
 t/uploads/2025/07/BIGANOS.jpeg
CATEGORIES:France
LOCATION:BIGANOS\, à l'IFMBE (Institut de formation et de massage bien-êt
 re)\, 182\, allée du Papyrus \, Biganos\, 33380\, France
GEO:44.63396;-0.967733
X-APPLE-STRUCTURED-LOCATION;VALUE=URI;X-ADDRESS=à l'IFMBE (Institut de for
 mation et de massage bien-être)\, 182\, allée du Papyrus \, Biganos\, 33
 380\, France;X-APPLE-RADIUS=100;X-TITLE=BIGANOS:geo:44.63396,-0.967733
END:VEVENT
BEGIN:VTIMEZONE
TZID:Europe/Paris
X-LIC-LOCATION:Europe/Paris
BEGIN:STANDARD
DTSTART:20251026T020000
TZOFFSETFROM:+0200
TZOFFSETTO:+0100
TZNAME:CET
END:STANDARD
END:VTIMEZONE
END:VCALENDAR