BEGIN:VCALENDAR
VERSION:2.0
PRODID:-//wp-events-plugin.com//7.2.3.1//EN
TZID:Europe/Paris
X-WR-TIMEZONE:Europe/Paris
BEGIN:VEVENT
UID:730@psycho-bio-acupressure.com
DTSTART;TZID=Europe/Paris;VALUE=DATE:20251128
DTEND;TZID=Europe/Paris;VALUE=DATE:20251201
DTSTAMP:20250728T072350Z
URL:https://www.psycho-bio-acupressure.com/Formations/journee-decouverte-a
 -la-pba-et-niveau-1-a-brest-4/
SUMMARY:Journée Découverte à la PBA et Niveau 1 à Brest
DESCRIPTION:Formatrice : Mme Laurence PINIER\n\nPour toute question\, merci
  de contacter la formatrice : laurence.pinier.pba@outlook.fr\n\n 	Journée
  découverte à la PBA et Prérequis Niveau 1 : 28 novembre 2025\, 9h – 
 12h30 / 14h – 17h30\nQuand vous vous inscrivez au niveau 1 et au niveau 
 2 en même temps\, le prérequis n’est plus demandé. Bien sûr\, vous p
 ouvez le faire\, mais ce n’est pas obligatoire.\n 	Niveau 1 : 29 novembr
 e 2025\, 9h – 12h30 / 14h – 17h30\, et 30 novembre 2025\, 9h – 12h\n
 \nAttention pour l’inscription\, il ne faut pas oublier les frais de dos
 sier
ATTACH;FMTTYPE=image/jpeg:https://www.psycho-bio-acupressure.com/wp-conten
 t/uploads/2018/07/brest-1581580_1280.jpg
CATEGORIES:France
LOCATION:Brest (Le Relecq-Kerhuon)\, Brit Hotel Brest Le Relecq-Kerhuon\, 2
  rue Robert Schuman\, LE RELECQ KERHUON - BREST\, 29480\, France
GEO:48.399111;-4.408395
X-APPLE-STRUCTURED-LOCATION;VALUE=URI;X-ADDRESS=Brit Hotel Brest Le Relecq-
 Kerhuon\, 2 rue Robert Schuman\, LE RELECQ KERHUON - BREST\, 29480\, Franc
 e;X-APPLE-RADIUS=100;X-TITLE=Brest (Le Relecq-Kerhuon):geo:48.399111,-4.40
 8395
END:VEVENT
BEGIN:VTIMEZONE
TZID:Europe/Paris
X-LIC-LOCATION:Europe/Paris
BEGIN:STANDARD
DTSTART:20251026T020000
TZOFFSETFROM:+0200
TZOFFSETTO:+0100
TZNAME:CET
END:STANDARD
END:VTIMEZONE
END:VCALENDAR