BEGIN:VCALENDAR
VERSION:2.0
PRODID:-//wp-events-plugin.com//7.2.3.1//EN
TZID:Europe/Paris
X-WR-TIMEZONE:Europe/Paris
BEGIN:VEVENT
UID:778@psycho-bio-acupressure.com
DTSTART;TZID=Europe/Paris;VALUE=DATE:20260227
DTEND;TZID=Europe/Paris;VALUE=DATE:20260302
DTSTAMP:20260216T144906Z
URL:https://www.psycho-bio-acupressure.com/Formations/journee-decouverte-a
 -la-pba-et-niveau-1-a-landerneau/
SUMMARY:Journée Découverte à la PBA à Landerneau (Finistère)
DESCRIPTION:Formatrice : Mme Laurence PINIER\n\nPour toute question\, merci
  de contacter la formatrice : laurence.pinier.pba@outlook.fr\n\n 	Journée
  découverte à la PBA et Prérequis Niveau 1 : 27 février 2026\, 9h – 
 12h30 / 14h – 17h30\nQuand vous vous inscrivez au niveau 1 et au niveau 
 2 en même temps\, le prérequis n’est plus demandé. Bien sûr\, vous p
 ouvez le faire\, mais ce n’est pas obligatoire.\n\nLieu : Manoir de Kera
 nden\, rue Jehan Bazin\, Landerneau\, 29800\n\nAttention pour l’inscript
 ion\, il ne faut pas oublier les frais de dossier\n\n&nbsp\;\n\n&nbsp\;
ATTACH;FMTTYPE=image/jpeg:https://www.psycho-bio-acupressure.com/wp-conten
 t/uploads/2025/12/WhatsApp-Image-2025-12-04-at-14.54.58.jpeg
CATEGORIES:France
LOCATION:Landerneau\, Manoir de Keranden\, rue Jehan Bazin\, Landerneau\, 2
 9800\, France
GEO:48.454406;-4.253585
X-APPLE-STRUCTURED-LOCATION;VALUE=URI;X-ADDRESS=Manoir de Keranden\, rue Je
 han Bazin\, Landerneau\, 29800\, France;X-APPLE-RADIUS=100;X-TITLE=Landern
 eau:geo:48.454406,-4.253585
END:VEVENT
BEGIN:VTIMEZONE
TZID:Europe/Paris
X-LIC-LOCATION:Europe/Paris
BEGIN:STANDARD
DTSTART:20251026T020000
TZOFFSETFROM:+0200
TZOFFSETTO:+0100
TZNAME:CET
END:STANDARD
END:VTIMEZONE
END:VCALENDAR