BEGIN:VCALENDAR
VERSION:2.0
PRODID:-//wp-events-plugin.com//7.2.3.1//EN
TZID:Europe/Paris
X-WR-TIMEZONE:Europe/Paris
BEGIN:VEVENT
UID:749@psycho-bio-acupressure.com
DTSTART;TZID=Europe/Paris;VALUE=DATE:20251107
DTEND;TZID=Europe/Paris;VALUE=DATE:20251110
DTSTAMP:20250908T131302Z
URL:https://www.psycho-bio-acupressure.com/Formations/journee-decouverte-a
 -la-pba-et-niveau-1-a-remiremont/
SUMMARY:Journée Découverte à la PBA et Niveau 1 à Remiremont
DESCRIPTION:Formatrice : Mme Pauline COLLE\n\nPour toute question\, merci d
 e contacter la formatrice : pbagrandest-pauline@institut-delatte.org\n\n 	
 Journée découverte à la PBA et Prérequis Niveau 1 : 7 novembre 2025\, 
 9h – 12h30 / 13h30 – 17h\nQuand vous vous inscrivez au niveau 1 et au 
 niveau 2 en même temps\, le prérequis n’est plus demandé.\nBien sûr\
 , vous pouvez le faire\, mais ce n’est pas obligatoire.\n 	Niveau 1 : 8 
 novembre 2025\, 9h – 12h30 / 13h30 – 17h\, et 9 novembre 2025\, 9h –
  12h\n\nAttention pour l’inscription\, il ne faut pas oublier les frais 
 de dossier
ATTACH;FMTTYPE=image/jpeg:https://www.psycho-bio-acupressure.com/wp-conten
 t/uploads/2025/09/est1.jpg
CATEGORIES:France
LOCATION:Remiremont\, 12 rue des États Unis\, Remiremont\, 88200\, France
GEO:48.016474;6.585201
X-APPLE-STRUCTURED-LOCATION;VALUE=URI;X-ADDRESS=12 rue des États Unis\, Re
 miremont\, 88200\, France;X-APPLE-RADIUS=100;X-TITLE=Remiremont:geo:48.016
 474,6.585201
END:VEVENT
BEGIN:VTIMEZONE
TZID:Europe/Paris
X-LIC-LOCATION:Europe/Paris
BEGIN:STANDARD
DTSTART:20251026T020000
TZOFFSETFROM:+0200
TZOFFSETTO:+0100
TZNAME:CET
END:STANDARD
END:VTIMEZONE
END:VCALENDAR