BEGIN:VCALENDAR
VERSION:2.0
PRODID:-//wp-events-plugin.com//7.2.3.1//EN
TZID:Europe/Paris
X-WR-TIMEZONE:Europe/Paris
BEGIN:VEVENT
UID:826@psycho-bio-acupressure.com
DTSTART;TZID=Europe/Paris;VALUE=DATE:20260607
DTEND;TZID=Europe/Paris;VALUE=DATE:20260617
DTSTAMP:20260330T135920Z
URL:https://www.psycho-bio-acupressure.com/Formations/journee-decouverte-e
 t-pre-requis-niveau-1-niveau-2-verbalisation-classique-et-verbalisation-ap
 profondie-a-angers/
SUMMARY:Journée Découverte et pré-requis\, Niveau 1\, Niveau 2\, Verbali
 sation classique et verbalisation approfondie à Angers
DESCRIPTION:Formatrice : Mme Laetitia VALADEAU\n\nPour toute question\, mer
 ci de contacter la formatrice : laetitiavaladeau@gmail.com\nTél. : 07.65.
 87.08.18\n\n 	Journée découverte à la PBA et Pré-requis Niveau 1 : dim
 anche 7 juin 2026\, 8h-13h\nQuand vous vous inscrivez au niveau 1 et au ni
 veau 2 en même temps\, le pré-requis n’est plus demandé.\nBien sûr\,
  vous pouvez le faire\, mais ce n’est pas obligatoire.\n 	Niveau 1 : sam
 edi 13 juin 2026\, 13h – 19h\, et dimanche 14 juin 2026\, 8h – 11h\n\n
 Lieu : Cabinet de Laetitia Valadeau : 19\, rue Marceau - Angers\n\n&nbsp\;
 \n\nFormatrice : Mme Faïrouz ROUZAUD\n\nPour les questions\, merci de co
 ntacter l'organisatrice : laetitiavaladeau@gmail.com.\n\n 	Niveau 2 : dima
 nche 14 juin mars 2026\, 12h – 17h et lundi 15 juin 2026 9h – 12h /14h
  – 18h + Module verbalisation classique inclus : mardi 16 juin 2026\, 8h
  – 11h\n 	Module verbalisation classique : mardi 16 juin 2026\, 8h – 1
 1h\n 	Module verbalisation approfondie : mardi 16 juin 2026\, 12h – 18h\
 n\nLieu : salle Acacia au Tiers-Lieu de l'Esviere - Fondacio 2\, rue de l'
 Esviere 49100 Angers\n\nAttention pour l’inscription\, il ne faut pas ou
 blier les frais de dossier\n\n&nbsp\;\n\n&nbsp\;
ATTACH;FMTTYPE=image/jpeg:https://www.psycho-bio-acupressure.com/wp-conten
 t/uploads/2025/09/angers.jpg
CATEGORIES:France
LOCATION:Angers\, Cabinet PBA Laetitia Valadeau\, 19\, rue Marceau\, Angers
 \, 49100\, France
GEO:47.4668;-0.559042
X-APPLE-STRUCTURED-LOCATION;VALUE=URI;X-ADDRESS=Cabinet PBA Laetitia Valade
 au\, 19\, rue Marceau\, Angers\, 49100\, France;X-APPLE-RADIUS=100;X-TITLE
 =Angers:geo:47.4668,-0.559042
END:VEVENT
BEGIN:VTIMEZONE
TZID:Europe/Paris
X-LIC-LOCATION:Europe/Paris
BEGIN:DAYLIGHT
DTSTART:20260329T030000
TZOFFSETFROM:+0100
TZOFFSETTO:+0200
TZNAME:CEST
END:DAYLIGHT
END:VTIMEZONE
END:VCALENDAR