BEGIN:VCALENDAR
VERSION:2.0
PRODID:-//wp-events-plugin.com//7.2.3.1//EN
TZID:Europe/Paris
X-WR-TIMEZONE:Europe/Paris
BEGIN:VEVENT
UID:803@psycho-bio-acupressure.com
DTSTART;TZID=Europe/Paris;VALUE=DATE:20260404
DTEND;TZID=Europe/Paris;VALUE=DATE:20260406
DTSTAMP:20260227T104814Z
URL:https://www.psycho-bio-acupressure.com/Formations/journee-recyclage-n5
 -verbalisation-classique-et-verbalisation-approfondie-a-lyon/
SUMMARY:Journée Recyclage N5\, verbalisation classique et verbalisation ap
 profondie à Lyon
DESCRIPTION:Formatrice : Mme Faïrouz ROUZAUD\n\nPour les questions merci 
 de contacter la formatrice : direction@institut-delatte.org\n\n 	Journée 
 Recyclage N5 : Samedi 4 avril 2026 12h — 18h\nRéservée aux praticiens 
 niveau 5 - Maximum 15 personnes\nÉgalement accessible en visioconférence
  pour les stagiaires de la Nouvelle-Calédonie\, La Réunion\, Tahiti et 
 Canada\n 	Module Verbalisation classique : Dimanche 5 avril 2026 8h-11h\n 
 	Module Verbalisation approfondie : Dimanche 5 avril 2026 12h-18h\n\nLieu 
 : Ibis Lyon Perrache\, 28 Cr de Verdun Perrache\, 69002 Lyon\n\n&nbsp\;\n\
 n&nbsp\;
ATTACH;FMTTYPE=image/jpeg:https://www.psycho-bio-acupressure.com/wp-conten
 t/uploads/2026/01/vieux-lyon.jpeg
CATEGORIES:France
LOCATION:Lyon\, Ibis Lyon Centre Perrache\, 28 Cours de Verdun Perrache\, L
 yon\, 69002\, France
GEO:45.7483953;4.828110700000025
X-APPLE-STRUCTURED-LOCATION;VALUE=URI;X-ADDRESS=Ibis Lyon Centre Perrache\,
  28 Cours de Verdun Perrache\, Lyon\, 69002\, France;X-APPLE-RADIUS=100;X-
 TITLE=Lyon:geo:45.7483953,4.828110700000025
END:VEVENT
BEGIN:VTIMEZONE
TZID:Europe/Paris
X-LIC-LOCATION:Europe/Paris
BEGIN:DAYLIGHT
DTSTART:20260329T030000
TZOFFSETFROM:+0100
TZOFFSETTO:+0200
TZNAME:CEST
END:DAYLIGHT
END:VTIMEZONE
END:VCALENDAR