BEGIN:VCALENDAR
VERSION:2.0
PRODID:-//wp-events-plugin.com//7.2.3.1//EN
TZID:Europe/Paris
X-WR-TIMEZONE:Europe/Paris
BEGIN:VEVENT
UID:734@psycho-bio-acupressure.com
DTSTART;TZID=Australia/Brisbane;VALUE=DATE:20251009
DTEND;TZID=Australia/Brisbane;VALUE=DATE:20251013
DTSTAMP:20250804T093325Z
URL:https://www.psycho-bio-acupressure.com/Formations/level-2-5-verbalisat
 ion-session-observer-and-supervisions-in-brisbane/
SUMMARY:Level 2 - 5\, Verbalisation\, Session Observer and Supervisions in 
 Brisbane
DESCRIPTION:Trainer : Mrs Faïrouz ROUZAUD\n\nFor any questions\, thank you
  to contact the organizer:\n\n 	Level 2: 9th October 2025\, 08:00 am – 0
 2:00 pm / 03:00 pm – 06:00 pm &amp\; 10th October 2025\, 08:00 am – 11
 :00 am\n 	Classic Verbalisation: 10th October 2025\, 11:00 am – 02:00 pm
 \n 	Advanced Verbalisation: 10th October 2025\, 03:00 pm – 08:00 pm\n 	S
 upervision 1 &amp\; 2\, pratical part: 11th October 2025\, 09:00 am – 1
 2:00 am / 02:00 pm – 05:00 pm\n 	Level 3 – 5: 12th October 2025\, 09:0
 0 am – 12:00 am / 02:00 pm – 05:00 pm\n 	Session Observer: 12th Octobe
 r 2025\, 09:00 am – 12:00 am / 02:00 pm – 05:00 pm\n\nYou are reminded
  that after level 2\, access to each training module is subject to a certa
 in number of prerequisites (see training summary)\, and that consequently 
 the absence of these prerequisites does not allow you access to the course
 . It is therefore your responsibility to check that you meet these conditi
 ons before each enrolment.\nDuring the exams\, the trainee must contact th
 e trainer Ms. ROUZAUD to let her know the time of arrival of the volunteer
  he plans to bring!\nWhen you register\, don’t forget to pay the adminis
 tration fee.\n\nYou can have a session with the Director of Studies as lon
 g as you book your slot in advance\, as it’s not possible to get an appo
 intment at the last minute.\n\nThe Fees are given in Australien Dollars.
ATTACH;FMTTYPE=image/jpeg:https://www.psycho-bio-acupressure.com/wp-conten
 t/uploads/2023/05/brisbane.jpg
CATEGORIES:Australie
LOCATION:Australie - Brisbane\, 6 Aberdeen Place\, Manly West\, Queensland\
 , 4179\, Australie
GEO:-27.466916;153.170559
X-APPLE-STRUCTURED-LOCATION;VALUE=URI;X-ADDRESS=6 Aberdeen Place\, Manly We
 st\, Queensland\, 4179\, Australie;X-APPLE-RADIUS=100;X-TITLE=Australie - 
 Brisbane:geo:-27.466916,153.170559
END:VEVENT
BEGIN:VTIMEZONE
TZID:Australia/Brisbane
X-LIC-LOCATION:Australia/Brisbane
BEGIN:STANDARD
DTSTART:20241009T000000
TZOFFSETFROM:+1000
TZOFFSETTO:+1000
TZNAME:AEST
END:STANDARD
END:VTIMEZONE
END:VCALENDAR