BEGIN:VCALENDAR
VERSION:2.0
PRODID:-//wp-events-plugin.com//7.2.3.1//EN
TZID:Europe/Paris
X-WR-TIMEZONE:Europe/Paris
BEGIN:VEVENT
UID:728@psycho-bio-acupressure.com
DTSTART;TZID=Europe/Paris;VALUE=DATE:20260109
DTEND;TZID=Europe/Paris;VALUE=DATE:20260122
DTSTAMP:20251125T134817Z
URL:https://www.psycho-bio-acupressure.com/Formations/niveau-2-5-verbalisa
 tion-classique-verbalisation-approfondie-et-auditeur-libre-a-biscarrosse/
SUMMARY:Formation Prérequis\, Niveaux 1 - 5\, Verbalisation classique\, Ve
 rbalisation approfondie et Auditeur libre à Biscarrosse
DESCRIPTION:Formatrice : Mme Sabrina COLAS\n\nPour toute question\, merci d
 e contacter la formatrice : sabrinacolas.pba@gmail.com\n\nAu Cabinet de Ps
 ycho-Bio-Acupressure de Sabrina Colas\, 420\, rue Jean Goujon\, 40600 Bisc
 arrosse :\n\n 	Journée découverte à la PBA et Prérequis Niveau 1 : 9 j
 anvier 2026\, 9h — 12h / 13h30 — 17h30\nQuand vous vous inscrivez au n
 iveau 1 et au niveau 2 en même temps\, le prérequis n’est plus demand
 é. Bien sûr\, vous pouvez le faire\, mais ce n’est pas obligatoire.\n\
 nAu Cabinet d'Ostéopathie de Lauriane Deblais\, 36\, rue Jean de la Fonta
 ine\, 40600 Biscarrosse :\n\n 	Niveau 1 : 10 janvier 2026\, 9h – 12h / 1
 3h30 – 17h30\, &amp\; 11 janvier 2026\, 9h – 12h\n\nÀ l'HÔTEL HYPE\,
  40 rue du Lieutenant de Vaisseau Paris\, 40600 Biscarrosse :\n\nFormatric
 e : Mme Faïrouz ROUZAUD\n\nPour des questions\, merci de contacter la fo
 rmatrice direction@institut-delatte.org\n\n 	Niveau 2 : 17 &amp\; 18 janv
 ier 2026\, 11h — 13h / 14h — 18h\n 	Module de Verbalisation classique 
 : 19 janvier 2026\, 10h — 13h\n 	Module de Verbalisation approfondie : 1
 9 janvier 2026\, 13h — 20h\nÉgalement accessible en visioconférence po
 ur les stagiaires de la Nouvelle-Calédonie\, La Réunion\, Tahiti et Can
 ada\n 	Bilan de compétences niveau 3 à 5 : 20 janvier 2026\, 8h — 15h\
 n 	Auditeur libre : 20 janvier 2026\, 8h — 15h\nÉgalement accessible en
  visioconférence pour les stagiaires de la Nouvelle-Calédonie\, La Réu
 nion\, Tahiti et Canada\n\nIl vous est rappelé qu’après le niveau 2\, 
 l’accès à chaque module de formation est subordonné à un certain nom
 bre de prérequis (cf le récapitulatif de la formation)\, et qu’en cons
 équence l’absence de ces préalables ne vous permet pas l’accès au c
 ours.\nIl vous appartient donc avant chaque inscription de vérifier que 
 vous remplissiez ces conditions.\nLors des examens\, le stagiaire doit se 
 mettre en contact avec la formatrice Mme ROUZAUD pour connaître l’heure
  de passage du cobaye qu’il prévoit de faire venir !\nAttention pour l
 ’inscription\, il ne faut pas oublier les frais de dossier.\n\nVous avez
  la possibilité de faire une séance avec la directrice des études à co
 ndition de réserver son créneau très tôt\, car il n’est pas possible
  d’avoir un rendez-vous à la dernière minute.
ATTACH;FMTTYPE=image/jpeg:https://www.psycho-bio-acupressure.com/wp-conten
 t/uploads/2024/11/biscarosse.jpg
CATEGORIES:France
LOCATION:Biscarrosse - HYPE HOTEL\, 40 Rue du Lieutenant de Vaisseau Paris\
 , BISCARROSSE\, 40600\, France
GEO:44.39466;-1.164218
X-APPLE-STRUCTURED-LOCATION;VALUE=URI;X-ADDRESS=40 Rue du Lieutenant de Vai
 sseau Paris\, BISCARROSSE\, 40600\, France;X-APPLE-RADIUS=100;X-TITLE=Bisc
 arrosse - HYPE HOTEL:geo:44.39466,-1.164218
END:VEVENT
BEGIN:VTIMEZONE
TZID:Europe/Paris
X-LIC-LOCATION:Europe/Paris
BEGIN:STANDARD
DTSTART:20251026T020000
TZOFFSETFROM:+0200
TZOFFSETTO:+0100
TZNAME:CET
END:STANDARD
END:VTIMEZONE
END:VCALENDAR