BEGIN:VCALENDAR
VERSION:2.0
PRODID:-//wp-events-plugin.com//7.2.3.1//EN
TZID:Europe/Paris
X-WR-TIMEZONE:Europe/Paris
BEGIN:VEVENT
UID:772@psycho-bio-acupressure.com
DTSTART;TZID=Europe/Paris;VALUE=DATE:20260117
DTEND;TZID=Europe/Paris;VALUE=DATE:20260205
DTSTAMP:20260203T092347Z
URL:https://www.psycho-bio-acupressure.com/Formations/pre-requis-formation
 -niveau-1-5-evp-supervision-a-noumea/
SUMMARY:Pré-requis\, Verba\, Formation Niveau 1 - 5\, EVP & Supervision à
  Nouméa
DESCRIPTION:Formatrice: Mme Gaelle Nastasi\n\nPour les questions merci de c
 ontacter la formatrice : gaellenoumeapba@institut-delatte.org\n\n 	Pré re
 quis : Samedi 17 Janvier 2026 de 9h à 12h et de 13h à 15h\n 	Niveau 1 : 
 Dimanche 18 Janvier 2026 de 8h à 12h et de 13h à 16h et Lundi 19 janvie
 r 2026 de 17h à 20h\n\nAdresse : Cabinet de NASTASI Gaelle 2 rue de Picar
 die - quartier sainte Marie 98800 Nouméa\n\n&nbsp\;\n\n------------------
 ----------------------------------------------------\n\nFormatrice: Mme Fa
 ïrouz ROUZAUD\n\nPour les questions merci de contacter la formatrice : d
 irection@institut-delatte.org\n\n 	Niveau 2 : 29 et 30 janvier 2026\, 9h-1
 2h et 14h-17h\n 	Module verbalisation classique : samedi 31 janvier 2026 9
 h-12h\nEgalement accessible en visioconférence pour tous les stagiaires 
 à partir du niveau 2\n 	Verbalisation approfondie : samedi 31 janvier 202
 6 13h-19h\n 	Supervision 1\, 2 &amp\; 2+ partie pratique : dimanche 1er f
 évrier 2026 9h-12h et 14h-17h\n 	EVP : lundi 02 février 2026 9h-12h et 1
 4h-17h\nThème : la symbolique émotionnelles des points d acupressure uti
 lisés en PBA ET CPE\nEgalement accessible en visioconférence pour les st
 agiaires de La Réunion\, Guadeloupe\, Tahiti\, Canada et la France\n 	Bil
 an de compétences niveaux 3 - 5 : mardi 3 février 2026 9h – 12h / 14h 
 – 17h et mercredi 4 février 2026 9h – 12h\n 	Auditeur libre : mardi 3
  février 2026 9h – 12h / 14h – 17h et mercredi 4 février 2026\n\nAdr
 esse : Hôtel Hilton\, 109 Promenade Roger Laroque - Nouméa\n\n&nbsp\;\n\
 nIl vous est rappelé qu’après le niveau 2\, l’accès à chaque modul
 e de formation est subordonné à un certain nombre de prérequis (cf le r
 écapitulatif de la formation)\, et qu’en conséquence l’absence de ce
 s préalables ne vous permet pas l’accès au cours.\nIl vous appartient 
 donc avant chaque inscription de vérifier que vous remplissiez ces condi
 tions.\nLors des examens\, le stagiaire doit se mettre en contact avec la 
 formatrice Mme ROUZAUD pour connaître l’heure de passage du cobaye qu
 ’il prévoit de faire venir !\nAttention pour l’inscription\, il ne fa
 ut pas oublier les frais de dossier et le forfait enseignement outre Atlan
 tique.\n\nVous avez la possibilité de faire une séance avec la directric
 e des études à condition de réserver son créneau à l’avance\, car i
 l n’est possible d’avoir un rdv à la dernière minute.\n\n&nbsp\;\n\n
 &nbsp\;
ATTACH;FMTTYPE=image/jpeg:https://www.psycho-bio-acupressure.com/wp-conten
 t/uploads/2018/07/lagoon-2530553_1280.jpg
CATEGORIES:Outre-mer
LOCATION:Nouméa\, Hôtel Hilton\, 109 Promenade Roger Laroque - Salle Naut
 ile\, Nouméa\, 98807\, Nouvelle-Calédonie
GEO:-22.301809;166.446066
X-APPLE-STRUCTURED-LOCATION;VALUE=URI;X-ADDRESS=Hôtel Hilton\, 109 Promena
 de Roger Laroque - Salle Nautile\, Nouméa\, 98807\, Nouvelle-Calédonie;X
 -APPLE-RADIUS=100;X-TITLE=Nouméa:geo:-22.301809,166.446066
END:VEVENT
BEGIN:VTIMEZONE
TZID:Europe/Paris
X-LIC-LOCATION:Europe/Paris
BEGIN:STANDARD
DTSTART:20251026T020000
TZOFFSETFROM:+0200
TZOFFSETTO:+0100
TZNAME:CET
END:STANDARD
END:VTIMEZONE
END:VCALENDAR