BEGIN:VCALENDAR
VERSION:2.0
PRODID:-//wp-events-plugin.com//7.2.3.1//EN
TZID:Europe/Paris
X-WR-TIMEZONE:Europe/Paris
BEGIN:VEVENT
UID:794@psycho-bio-acupressure.com
DTSTART;TZID=Europe/Paris;VALUE=DATE:20260327
DTEND;TZID=Europe/Paris;VALUE=DATE:20260402
DTSTAMP:20260227T104633Z
URL:https://www.psycho-bio-acupressure.com/Formations/pre-requis-formation
 -niveau-1-et-2-a-remiremont-vosges/
SUMMARY:Pré-requis\, Formation Niveau 1 et 2 à Remiremont (Vosges)
DESCRIPTION:-Formatrice : Pauline\n\nPour toute question\, merci de contact
 er la formatrice : pbagrandest-pauline@institut-delatte.org\n\n 	Découver
 te et Pré-requis obligatoire pour le niveau 1 : Vendredi 27 mars 2026\, 9
 h-12h30/13h30-17h\nQuand vous vous inscrivez au niveau 1 et au niveau 2 en
  même temps\, le prérequis n’est plus demandé. Bien sûr\, vous pouve
 z le faire\, mais ce n’est pas obligatoire.\n 	Niveau 1 : Samedi 28 mars
  2026\, 9h-12h30/13h30-17h et dimanche 29 mars 2026 9h-12h\n\n&nbsp\;\n\nF
 ormatrice : Mme Faïrouz ROUZAUD\n\nPour toute question\, merci de contac
 ter la formatrice : direction@institut-delatte.org\n\n 	Niveau 2 : Lundi 3
 0 mars 9h-12h / 14h-17h et mardi 31 mars 2026 9h-12h / 14h-17h\n 	Verbalis
 ation classique : Mercredi 1er avril 2026 8h-11h\n\n&nbsp\;\n\n&nbsp\;
ATTACH;FMTTYPE=image/jpeg:https://www.psycho-bio-acupressure.com/wp-conten
 t/uploads/2025/09/est1.jpg
CATEGORIES:France
LOCATION:Remiremont\, 12 rue des États Unis\, Remiremont\, 88200\, France
GEO:48.016474;6.585201
X-APPLE-STRUCTURED-LOCATION;VALUE=URI;X-ADDRESS=12 rue des États Unis\, Re
 miremont\, 88200\, France;X-APPLE-RADIUS=100;X-TITLE=Remiremont:geo:48.016
 474,6.585201
END:VEVENT
BEGIN:VTIMEZONE
TZID:Europe/Paris
X-LIC-LOCATION:Europe/Paris
BEGIN:STANDARD
DTSTART:20251026T020000
TZOFFSETFROM:+0200
TZOFFSETTO:+0100
TZNAME:CET
END:STANDARD
BEGIN:DAYLIGHT
DTSTART:20260329T030000
TZOFFSETFROM:+0100
TZOFFSETTO:+0200
TZNAME:CEST
END:DAYLIGHT
END:VTIMEZONE
END:VCALENDAR