BEGIN:VCALENDAR
VERSION:2.0
PRODID:-//wp-events-plugin.com//7.2.3.1//EN
TZID:Europe/Paris
X-WR-TIMEZONE:Europe/Paris
BEGIN:VEVENT
UID:656@psycho-bio-acupressure.com
DTSTART;TZID=Europe/Paris:20241026T110000
DTEND;TZID=Europe/Paris:20241027T140000
DTSTAMP:20240919T084130Z
URL:https://www.psycho-bio-acupressure.com/en/Formations/classic-verbalisa
 tion-by-videoconference-for-english-speakers/
SUMMARY:Classic verbalisation by videoconference for English speakers
DESCRIPTION:Trainer : Mrs. Faïrouz ROUZAUD\n\nFor any questions\, thank yo
 u to contact the trainer : direction@institut-delatte.org\n\nClassic verba
 lisation by videoconference : 26th and 27th October 2024\, 11:00 am – 02
 :00 pm (Paris Time)\n\nThe session is in english\n\nTheme : list for adult
 s\n\nThe Verbalisation module is accessible and recommended to all trainee
 s from level 2 even when they have already attended one.\n\nWE REMIND YOU 
 THAT THE COURSES GIVEN ONLINE ARE AN OPPORTUNITY FOR YOU TO PROGRESS IN YO
 UR COURSE. WE DRAW YOUR ATTENTION TO YOUR RESPONSIBILITY TO ENSURE THAT YO
 U HAVE A GOOD CONNECTION AS WELL AS A WORKING MICROPHONE AND CAMERA. THANK
  YOU FOR YOUR UNDERSTANDING.
ATTACH;FMTTYPE=image/jpeg:https://www.psycho-bio-acupressure.com/wp-conten
 t/uploads/2020/10/conf.jpg
CATEGORIES:Videoconference
LOCATION:Online\, Online\, Online\, United States
GEO:37.09024;-95.712891
X-APPLE-STRUCTURED-LOCATION;VALUE=URI;X-ADDRESS=Online\, Online\, United St
 ates;X-APPLE-RADIUS=100;X-TITLE=Online:geo:37.09024,-95.712891
END:VEVENT
BEGIN:VTIMEZONE
TZID:Europe/Paris
X-LIC-LOCATION:Europe/Paris
BEGIN:DAYLIGHT
DTSTART:20240331T030000
TZOFFSETFROM:+0100
TZOFFSETTO:+0200
TZNAME:CEST
END:DAYLIGHT
BEGIN:STANDARD
DTSTART:20241027T020000
TZOFFSETFROM:+0200
TZOFFSETTO:+0100
TZNAME:CET
END:STANDARD
END:VTIMEZONE
END:VCALENDAR