BEGIN:VCALENDAR
VERSION:2.0
PRODID:-//wp-events-plugin.com//7.2.3.1//EN
TZID:Europe/Paris
X-WR-TIMEZONE:Europe/Paris
BEGIN:VEVENT
UID:576@psycho-bio-acupressure.com
DTSTART;TZID=America/Bogota:20240119T150000
DTEND;TZID=America/Bogota:20240120T180000
DTSTAMP:20240102T183608Z
URL:https://www.psycho-bio-acupressure.com/en/Formations/classic-verbaliza
 tion-by-videoconference-for-english-speakers/
SUMMARY:Classic verbalization by videoconference for English speakers
DESCRIPTION:Trainer: Ms Faïrouz ROUZAUD\n\nIf you have any questions\, ple
 ase contact the trainer: direction@institut-delatte.org\n\nClassic Verbali
 zation by videoconference: 19 &amp\; 20 January 2024\, 3pm – 6pm (Bogota
  times)\n\nThe Classical Verbalization Module is accessible and recommende
 d for all trainees from level 2 upwards\, even if they have already taken 
 the Verbalization level.\n\nWE REMIND YOU THAT THE COURSES GIVEN ONLINE AR
 E AN OPPORTUNITY FOR YOU TO PROGRESS IN YOUR COURSE. WE DRAW YOUR ATTENTIO
 N TO YOUR RESPONSIBILITY TO ENSURE THAT YOU HAVE A GOOD CONNECTION AS WELL
  AS A WORKING MICROPHONE AND CAMERA. THANK YOU FOR YOUR UNDERSTANDING.
ATTACH;FMTTYPE=image/jpeg:https://www.psycho-bio-acupressure.com/wp-conten
 t/uploads/2020/10/conf.jpg
CATEGORIES:Videoconference
LOCATION:En visioconférence\, En visioconférence\,  \, France
GEO:46.227638;2.213749
X-APPLE-STRUCTURED-LOCATION;VALUE=URI;X-ADDRESS=En visioconférence\,  \, F
 rance;X-APPLE-RADIUS=100;X-TITLE=En visioconférence:geo:46.227638,2.21374
 9
END:VEVENT
BEGIN:VTIMEZONE
TZID:America/Bogota
X-LIC-LOCATION:America/Bogota
BEGIN:STANDARD
DTSTART:20230119T150000
TZOFFSETFROM:-0500
TZOFFSETTO:-0500
TZNAME:-05
END:STANDARD
END:VTIMEZONE
END:VCALENDAR