BEGIN:VCALENDAR
VERSION:2.0
PRODID:-//wp-events-plugin.com//7.2.3.1//EN
TZID:Europe/Paris
X-WR-TIMEZONE:Europe/Paris
BEGIN:VEVENT
UID:842@psycho-bio-acupressure.com
DTSTART;TZID=Australia/Brisbane;VALUE=DATE:20260522
DTEND;TZID=Australia/Brisbane;VALUE=DATE:20260526
DTSTAMP:20260420T130045Z
URL:https://www.psycho-bio-acupressure.com/en/Formations/level-1-2-verbali
 sation-in-australia-sunshine-coast/
SUMMARY:Level 1 - 2\, Verbalisation in Australia (Sunshine coast)
DESCRIPTION:Trainer : Mrs. Faïrouz ROUZAUD\n\nFor any questions\, thank yo
 u to contact the trainer: direction@institut-delatte.org\n\n 	Level 1: 22n
 d May 2026\, 9am-12pm &amp\; 2pm-5pm and 23rd May 2026\, 8am-11am\n 	Level
  2: 23rd May 2026\, 12pm-05:30 pm &amp\; 24th May 2026\, 9am-12pm &amp\; 2
 pm-5pm and classic verbalisation included 25th May 2026\, 9am-12pm\n 	Clas
 sic Verbalisation: 25th May 2026\, 9am-12pm\n\nYou are reminded that after
  level 2\, access to each training module is subject to a certain number o
 f prerequisites (see training summary)\, and that consequently the absence
  of these prerequisites does not allow you access to the course. It is the
 refore your responsibility to check that you meet these conditions before 
 each enrolment.\n\nWhen you register\, don’t forget to pay the administr
 ation fee.\n\nYou can have a session with the Director of Studies as long 
 as you book your slot in advance\, as it’s not possible to get an appoin
 tment at the last minute.\n\nThe Fees are given in Australien Dollars.
ATTACH;FMTTYPE=image/jpeg:https://www.psycho-bio-acupressure.com/wp-conten
 t/uploads/2023/04/melbourne.jpg
CATEGORIES:Australia
LOCATION:Australia - Sunshine Coast\, to define\, sunshine coast\, Australi
 a
GEO:-26.652775;153.089586
X-APPLE-STRUCTURED-LOCATION;VALUE=URI;X-ADDRESS=to define\, sunshine coast\
 , Australia;X-APPLE-RADIUS=100;X-TITLE=Australia - Sunshine Coast:geo:-26.
 652775,153.089586
END:VEVENT
BEGIN:VTIMEZONE
TZID:Australia/Brisbane
X-LIC-LOCATION:Australia/Brisbane
BEGIN:STANDARD
DTSTART:20250522T000000
TZOFFSETFROM:+1000
TZOFFSETTO:+1000
TZNAME:AEST
END:STANDARD
END:VTIMEZONE
END:VCALENDAR