BEGIN:VCALENDAR
VERSION:2.0
PRODID:-//wp-events-plugin.com//7.2.3.1//EN
TZID:Europe/Paris
X-WR-TIMEZONE:Europe/Paris
BEGIN:VEVENT
UID:584@psycho-bio-acupressure.com
DTSTART;TZID=Australia/Melbourne:20240217T000000
DTEND;TZID=Australia/Melbourne:20240219T000000
DTSTAMP:20240124T124010Z
URL:https://www.psycho-bio-acupressure.com/en/Formations/supervision-1-vid
 eoconference-training-for-australia-and-english-speakers/
SUMMARY:Supervision 1 videoconference training – for Australia and Englis
 h speakers
DESCRIPTION:Trainer: Mme Faïrouz ROUZAUD\n\nFor any questions thank you t
 o contact the trainer: direction@institut-delatte.org\n\nThe theory part w
 ill be taught to you by videoconference.\nThe “practical” part will be
  validated later during a face-to-face day.\n\nSupervision 1 - 320 $: 17\,
  18 and 19 February 2024\, 6:00 pm – 8:00 pm (Vanuatu Time)\n\nRegistrat
 ions fees: 35 $\n\nFor the australiens\, you will get your invoice in aus
 tralien dollar.\n\nWE REMIND YOU THAT ONLINE COURSES ARE AN OPPORTUNITY TO
  ALLOW YOU TO ADVANCE IN YOUR COURSE. WE DRAW YOUR ATTENTION TO YOUR RESPO
 NSIBILITY TO ENSURE YOU HAVE A GOOD CONNECTION AS WELL AS A MICROPHONE AND
  A CAMERA THAT WORKS. THANK YOU FOR UNDERSTANDING.
ATTACH;FMTTYPE=image/jpeg:https://www.psycho-bio-acupressure.com/wp-conten
 t/uploads/2020/10/conf.jpg
CATEGORIES:Videoconference
LOCATION:Online\, Online\, Online\, United States
GEO:37.09024;-95.712891
X-APPLE-STRUCTURED-LOCATION;VALUE=URI;X-ADDRESS=Online\, Online\, United St
 ates;X-APPLE-RADIUS=100;X-TITLE=Online:geo:37.09024,-95.712891
END:VEVENT
BEGIN:VTIMEZONE
TZID:Australia/Melbourne
X-LIC-LOCATION:Australia/Melbourne
BEGIN:DAYLIGHT
DTSTART:20231001T030000
TZOFFSETFROM:+1000
TZOFFSETTO:+1100
TZNAME:AEDT
END:DAYLIGHT
END:VTIMEZONE
END:VCALENDAR