BEGIN:VCALENDAR
VERSION:2.0
PRODID:-//wp-events-plugin.com//7.2.3.1//EN
TZID:Europe/Paris
X-WR-TIMEZONE:Europe/Paris
BEGIN:VEVENT
UID:765@psycho-bio-acupressure.com
DTSTART;TZID=Europe/Paris:20251104T070000
DTEND;TZID=Europe/Paris:20251106T090000
DTSTAMP:20251026T094145Z
URL:https://www.psycho-bio-acupressure.com/en/Formations/verbalisation-cou
 rse-children-list-only-for-australians/
SUMMARY:Verbalisation course (children list) - only for Australians
DESCRIPTION:Trainer: Mme Faïrouz ROUZAUD\n\n 	Verbalisation course about 
 the children list : 04th\, 05th and 06th of November 2025\, 7am to 9am (Pa
 ris time)\n\n&nbsp\;
ATTACH;FMTTYPE=image/jpeg:https://www.psycho-bio-acupressure.com/wp-conten
 t/uploads/2020/10/conf.jpg
CATEGORIES:Australia
LOCATION:Online\, Online\, Online\, United States
GEO:37.09024;-95.712891
X-APPLE-STRUCTURED-LOCATION;VALUE=URI;X-ADDRESS=Online\, Online\, United St
 ates;X-APPLE-RADIUS=100;X-TITLE=Online:geo:37.09024,-95.712891
END:VEVENT
BEGIN:VTIMEZONE
TZID:Europe/Paris
X-LIC-LOCATION:Europe/Paris
BEGIN:STANDARD
DTSTART:20251026T020000
TZOFFSETFROM:+0200
TZOFFSETTO:+0100
TZNAME:CET
END:STANDARD
END:VTIMEZONE
END:VCALENDAR